BEGIN:VCALENDAR
VERSION:2.0
PRODID:-//Joliet Fraternal Leaders - ECPv6.15.20//NONSGML v1.0//EN
CALSCALE:GREGORIAN
METHOD:PUBLISH
X-WR-CALNAME:Joliet Fraternal Leaders
X-ORIGINAL-URL:https://jolietdc.org
X-WR-CALDESC:Events for Joliet Fraternal Leaders
REFRESH-INTERVAL;VALUE=DURATION:PT1H
X-Robots-Tag:noindex
X-PUBLISHED-TTL:PT1H
BEGIN:VTIMEZONE
TZID:America/Chicago
BEGIN:DAYLIGHT
TZOFFSETFROM:-0600
TZOFFSETTO:-0500
TZNAME:CDT
DTSTART:20240310T080000
END:DAYLIGHT
BEGIN:STANDARD
TZOFFSETFROM:-0500
TZOFFSETTO:-0600
TZNAME:CST
DTSTART:20241103T070000
END:STANDARD
BEGIN:DAYLIGHT
TZOFFSETFROM:-0600
TZOFFSETTO:-0500
TZNAME:CDT
DTSTART:20250309T080000
END:DAYLIGHT
BEGIN:STANDARD
TZOFFSETFROM:-0500
TZOFFSETTO:-0600
TZNAME:CST
DTSTART:20251102T070000
END:STANDARD
BEGIN:DAYLIGHT
TZOFFSETFROM:-0600
TZOFFSETTO:-0500
TZNAME:CDT
DTSTART:20260308T080000
END:DAYLIGHT
BEGIN:STANDARD
TZOFFSETFROM:-0500
TZOFFSETTO:-0600
TZNAME:CST
DTSTART:20261101T070000
END:STANDARD
END:VTIMEZONE
BEGIN:VEVENT
DTSTART;TZID=America/Chicago:20250215T080000
DTEND;TZID=America/Chicago:20250215T090000
DTSTAMP:20260424T151752
CREATED:20250214T223942Z
LAST-MODIFIED:20250214T223942Z
UID:2375-1739606400-1739610000@jolietdc.org
SUMMARY:Prayer Vigil
DESCRIPTION:Prayer Vigil at Access Health (Abortion Clinic) \n 1700 75th St\, Downers Grove\, IL. 60516 \nSaturday March 15\, 2025   \n8:00am to 9:00 am \n 
URL:https://jolietdc.org/event/prayer-vigil/
LOCATION:Access Health (Aborthion Clinic)\, 1700 75th St.\, Downers Grove\, IL\, 60516\, United States
CATEGORIES:Programming
ATTACH;FMTTYPE=image/jpeg:https://jolietdc.org/wp-content/uploads/2025/02/75th-Prayer-031525.jpg
ORGANIZER;CN="Bishop James E Fitgerald #14649":MAILTO:varanda@comcast.net
END:VEVENT
BEGIN:VEVENT
DTSTART;TZID=America/Chicago:20250215T160000
DTEND;TZID=America/Chicago:20250215T173000
DTSTAMP:20260424T151752
CREATED:20250119T011034Z
LAST-MODIFIED:20250214T225724Z
UID:2171-1739635200-1739640600@jolietdc.org
SUMMARY:Council 5918 Membership Drive
DESCRIPTION:Membership Drive for Council #5918 at Christ the Servant Parish in Woodridge\, Il
URL:https://jolietdc.org/event/membership-drive/
LOCATION:Christ the Servant\, 8700 Havens Dr\, Woodridge\, IL\, 60517\, United States
CATEGORIES:Delta Church Drives,Membership
ATTACH;FMTTYPE=image/png:https://jolietdc.org/wp-content/uploads/2024/11/3rddegree200x200.png
END:VEVENT
END:VCALENDAR