BEGIN:VCALENDAR
VERSION:2.0
PRODID:-//Joliet Fraternal Leaders - ECPv6.15.20//NONSGML v1.0//EN
CALSCALE:GREGORIAN
METHOD:PUBLISH
X-WR-CALNAME:Joliet Fraternal Leaders
X-ORIGINAL-URL:https://jolietdc.org
X-WR-CALDESC:Events for Joliet Fraternal Leaders
REFRESH-INTERVAL;VALUE=DURATION:PT1H
X-Robots-Tag:noindex
X-PUBLISHED-TTL:PT1H
BEGIN:VTIMEZONE
TZID:America/Chicago
BEGIN:DAYLIGHT
TZOFFSETFROM:-0600
TZOFFSETTO:-0500
TZNAME:CDT
DTSTART:20240310T080000
END:DAYLIGHT
BEGIN:STANDARD
TZOFFSETFROM:-0500
TZOFFSETTO:-0600
TZNAME:CST
DTSTART:20241103T070000
END:STANDARD
BEGIN:DAYLIGHT
TZOFFSETFROM:-0600
TZOFFSETTO:-0500
TZNAME:CDT
DTSTART:20250309T080000
END:DAYLIGHT
BEGIN:STANDARD
TZOFFSETFROM:-0500
TZOFFSETTO:-0600
TZNAME:CST
DTSTART:20251102T070000
END:STANDARD
BEGIN:DAYLIGHT
TZOFFSETFROM:-0600
TZOFFSETTO:-0500
TZNAME:CDT
DTSTART:20260308T080000
END:DAYLIGHT
BEGIN:STANDARD
TZOFFSETFROM:-0500
TZOFFSETTO:-0600
TZNAME:CST
DTSTART:20261101T070000
END:STANDARD
END:VTIMEZONE
BEGIN:VEVENT
DTSTART;TZID=America/Chicago:20251004T170000
DTEND;TZID=America/Chicago:20251004T180000
DTSTAMP:20260423T235333
CREATED:20250901T185725Z
LAST-MODIFIED:20250901T185725Z
UID:3627-1759597200-1759600800@jolietdc.org
SUMMARY:Installation Mass of Rev. Fr. Dindo Billote St. Francis of Assisi Bolingbrook
DESCRIPTION:Please join us on the Feast Day of our Patron Saint Francis of Assisi for this joyous occasion to install our new Pastor Rev. Father Dindo Billote as Pastor of our parish.  An Honor Guard has been requested and all who wish to participate should should up no later than 4:30PM.  A reception in the St. Francis Room will immediately follow the Mass. \n 
URL:https://jolietdc.org/event/installation-mass-of-rev-fr-dindo-billote-st-francis-of-assisi-bolingbrook/
LOCATION:St. Francis of Assisi Bolingbrook\, 1501 W Boughton Rd\, Bolingbrook\, IL\, 60490\, United States
CATEGORIES:3rd Degree,4th Degree
ATTACH;FMTTYPE=image/jpeg:https://jolietdc.org/wp-content/uploads/2025/09/Fr.-Dindo-Pastor-Installation.jpg
END:VEVENT
BEGIN:VEVENT
DTSTART;TZID=America/Chicago:20251004T180000
DTEND;TZID=America/Chicago:20251004T203000
DTSTAMP:20260423T235333
CREATED:20250914T201421Z
LAST-MODIFIED:20250914T201630Z
UID:3839-1759600800-1759609800@jolietdc.org
SUMMARY:Midnight at the Masquerade - Council 650 Addison
DESCRIPTION:Murder Mystery Dinner: Dinner at 6PM and the Show at  7PM \nhttps://www.zeffy.com/en-US/ticketing/midnight-at-the-masquerade
URL:https://jolietdc.org/event/midnight-at-the-masquerade-council-650-addison/
LOCATION:St. Phillip the Apostle – Addison\, 1233 W Holtz Ave\, Addison\, IL\, 60101\, United States
CATEGORIES:Charity,Programming
ATTACH;FMTTYPE=image/jpeg:https://jolietdc.org/wp-content/uploads/2025/09/1755117444050blob-scaled.jpg
END:VEVENT
END:VCALENDAR