BEGIN:VCALENDAR
VERSION:2.0
PRODID:-//Joliet Fraternal Leaders - ECPv6.15.20//NONSGML v1.0//EN
CALSCALE:GREGORIAN
METHOD:PUBLISH
X-WR-CALNAME:Joliet Fraternal Leaders
X-ORIGINAL-URL:https://jolietdc.org
X-WR-CALDESC:Events for Joliet Fraternal Leaders
REFRESH-INTERVAL;VALUE=DURATION:PT1H
X-Robots-Tag:noindex
X-PUBLISHED-TTL:PT1H
BEGIN:VTIMEZONE
TZID:America/Chicago
BEGIN:DAYLIGHT
TZOFFSETFROM:-0600
TZOFFSETTO:-0500
TZNAME:CDT
DTSTART:20240310T080000
END:DAYLIGHT
BEGIN:STANDARD
TZOFFSETFROM:-0500
TZOFFSETTO:-0600
TZNAME:CST
DTSTART:20241103T070000
END:STANDARD
BEGIN:DAYLIGHT
TZOFFSETFROM:-0600
TZOFFSETTO:-0500
TZNAME:CDT
DTSTART:20250309T080000
END:DAYLIGHT
BEGIN:STANDARD
TZOFFSETFROM:-0500
TZOFFSETTO:-0600
TZNAME:CST
DTSTART:20251102T070000
END:STANDARD
BEGIN:DAYLIGHT
TZOFFSETFROM:-0600
TZOFFSETTO:-0500
TZNAME:CDT
DTSTART:20260308T080000
END:DAYLIGHT
BEGIN:STANDARD
TZOFFSETFROM:-0500
TZOFFSETTO:-0600
TZNAME:CST
DTSTART:20261101T070000
END:STANDARD
BEGIN:DAYLIGHT
TZOFFSETFROM:-0600
TZOFFSETTO:-0500
TZNAME:CDT
DTSTART:20270314T080000
END:DAYLIGHT
BEGIN:STANDARD
TZOFFSETFROM:-0500
TZOFFSETTO:-0600
TZNAME:CST
DTSTART:20271107T070000
END:STANDARD
END:VTIMEZONE
BEGIN:VEVENT
DTSTART;TZID=America/Chicago:20260327T120000
DTEND;TZID=America/Chicago:20260327T160000
DTSTAMP:20260423T135611
CREATED:20260302T012147Z
LAST-MODIFIED:20260302T012147Z
UID:4430-1774612800-1774627200@jolietdc.org
SUMMARY:Knights of Columbus 382 Blood Drive
DESCRIPTION:Blood Drive
URL:https://jolietdc.org/event/knights-of-columbus-382-blood-drive/
LOCATION:Knights of Columbus 382\, 100 S 129th Infantry Dr\, Joliet IL\, 60436\, United States
CATEGORIES:3rd Degree
ATTACH;FMTTYPE=image/jpeg:https://jolietdc.org/wp-content/uploads/2026/02/Blood-drive-3-27-26.jpg
ORGANIZER;CN="council #382":MAILTO:kofc382@outlook.com
END:VEVENT
BEGIN:VEVENT
DTSTART;TZID=America/Chicago:20260319T080000
DTEND;TZID=America/Chicago:20260319T170000
DTSTAMP:20260423T135611
CREATED:20250825T212055Z
LAST-MODIFIED:20260113T194829Z
UID:3410-1773907200-1773939600@jolietdc.org
SUMMARY:2026 Illinois Pro-Life March
DESCRIPTION:Mark your calendar! The Illinois Pro-life March is tentatively scheduled for Thursday\, March 19th at the Illinois State Capitol in Springfield.\n\n\n\n\n\nWhen thousands of us gather to march for life\, we send a powerful message to our legislators: Illinois stands for life\, and we will never stop advocating for the protection of preborn children.\n\n\n\n\n\nWe’re honored to be joined by inspiring pro-life voices\, including Bishop Thomas Paprocki\, a steadfast pro-life champion from the Springfield Diocese.\n\n\n\n\n\nEvery year\, we march around the Capitol\, then meet with our legislators to speak up on the most pressing life issues facing our state. Your presence makes a difference—in the streets and in the halls of power.\n\n\n\n\n\nRegister TODAY for updates. We can’t wait to stand with you in Springfield! \n\nhttps://www.illinoisprolifemarch.com/
URL:https://jolietdc.org/event/2026-illinois-pro-life-march/
LOCATION:Illinois State Capitol Building\, 401 S. 2nd Street\, Springfield\, IL\, 62701\, United States
CATEGORIES:3rd Degree,Programming
ATTACH;FMTTYPE=image/jpeg:https://jolietdc.org/wp-content/uploads/2025/08/Pro-Life-Pro-Woman.jpg
END:VEVENT
BEGIN:VEVENT
DTSTART;TZID=America/Chicago:20260221T080000
DTEND;TZID=America/Chicago:20260221T170000
DTSTAMP:20260423T135611
CREATED:20250825T204455Z
LAST-MODIFIED:20260113T194829Z
UID:3400-1771660800-1771693200@jolietdc.org
SUMMARY:2026 State of the Art Band Competition
DESCRIPTION:Will replace with 2026 flyer once it is available
URL:https://jolietdc.org/event/2026-state-of-the-art-band-competition/
LOCATION:Marmion Academy\, 850 Butterfield Rd\, Aurora\, IL\, 60504\, United States
CATEGORIES:3rd Degree
ATTACH;FMTTYPE=image/jpeg:https://jolietdc.org/wp-content/uploads/2025/08/SOTA2025photo.jpg
END:VEVENT
BEGIN:VEVENT
DTSTART;VALUE=DATE:20251206
DTEND;VALUE=DATE:20251208
DTSTAMP:20260423T135611
CREATED:20250825T210554Z
LAST-MODIFIED:20260113T194830Z
UID:3403-1764979200-1765151999@jolietdc.org
SUMMARY:District Deputy Winter Organizational Meeting
DESCRIPTION:Link to book rooms and meals will be included once it is available
URL:https://jolietdc.org/event/district-deputy-winter-organizational-meeting/
LOCATION:Peoria Marriott Pere Marquette\, 501 Main St\, Peoria\, IL \, USA\, IL\, 61602\, United States
CATEGORIES:3rd Degree,State Council
ATTACH;FMTTYPE=image/png:https://jolietdc.org/wp-content/uploads/2025/07/KC-Illinois-State-Pin-2025-blue-pink-OL-FINAL-Lloyd-e1756750472233.png
ORGANIZER;CN="Knights of Columbus Illinois State Council":MAILTO:denny@illinoisknights.org
END:VEVENT
BEGIN:VEVENT
DTSTART;TZID=America/Chicago:20251122T080000
DTEND;TZID=America/Chicago:20251122T160000
DTSTAMP:20260423T135611
CREATED:20250915T143004Z
LAST-MODIFIED:20260113T194830Z
UID:3861-1763798400-1763827200@jolietdc.org
SUMMARY:Great Lakes Catholic Mens Conference - NIU
DESCRIPTION:State Council will be a Sponsor \nKeynote Speakers: Father Rocky from Relevant Radio; Steve Ray; Tim Gray
URL:https://jolietdc.org/event/great-lakes-catholic-mens-conference-niu/
LOCATION:Northern Illinois University\, 340 Carroll Ave\, DeKalb\, IL\, 60115\, United States
CATEGORIES:3rd Degree,Membership,Micro Drives,Programming,State Council
ATTACH;FMTTYPE=image/png:https://jolietdc.org/wp-content/uploads/2025/09/Great-Lakes-Catholic-mens-conference.png
END:VEVENT
BEGIN:VEVENT
DTSTART;TZID=America/Chicago:20251026T103000
DTEND;TZID=America/Chicago:20251026T113000
DTSTAMP:20260423T135611
CREATED:20250901T195005Z
LAST-MODIFIED:20250901T195005Z
UID:3640-1761474600-1761478200@jolietdc.org
SUMMARY:St. Liborius Council 14562 Membership Drive DD32
DESCRIPTION:
URL:https://jolietdc.org/event/st-liborius-council-14562-membership-drive-dd32/
LOCATION:St. Liborius Steger\, 71 W. 35th St.\, Steger\, IL\, 60475\, United States
CATEGORIES:3rd Degree,Delta Church Drives,Membership
ATTACH;FMTTYPE=image/jpeg:https://jolietdc.org/wp-content/uploads/2025/08/2025-2026-Membership-QR-Code-3.jpg
END:VEVENT
BEGIN:VEVENT
DTSTART;TZID=America/Chicago:20251025T163000
DTEND;TZID=America/Chicago:20251025T173000
DTSTAMP:20260423T135611
CREATED:20250901T195426Z
LAST-MODIFIED:20250901T214542Z
UID:3643-1761409800-1761413400@jolietdc.org
SUMMARY:St. Liborius Council 14562 Membership Drive DD32
DESCRIPTION:
URL:https://jolietdc.org/event/st-liborius-council-14562-membership-drive-dd32-2/
LOCATION:St. Liborius Steger\, 71 W. 35th St.\, Steger\, IL\, 60475\, United States
CATEGORIES:3rd Degree,Delta Church Drives,Membership
ATTACH;FMTTYPE=image/jpeg:https://jolietdc.org/wp-content/uploads/2025/08/2025-2026-Membership-QR-Code-3.jpg
END:VEVENT
BEGIN:VEVENT
DTSTART;TZID=America/Chicago:20251019T110000
DTEND;TZID=America/Chicago:20251019T120000
DTSTAMP:20260423T135611
CREATED:20250901T155445Z
LAST-MODIFIED:20250901T160614Z
UID:3599-1760871600-1760875200@jolietdc.org
SUMMARY:St. Paul the Apostle Council # 11232 Membership Drive DD32
DESCRIPTION:St Paul the Apostle Council # 11232 will conduct a Membership Drive / Benefits event immediately following the 11AM Mass on Sunday October 19\, 2025 at St. Paul the Apostle Catholic Church 511 N. Conrad Av.  Peotone\, IL  60468.  All are invited
URL:https://jolietdc.org/event/st-paul-the-apostle-council-11232-membership-drive-dd32/
LOCATION:St. Paul the Apostle Church\, 511 N. Conrad Av.\, Peotone\, IL\, 60468\, United States
CATEGORIES:3rd Degree,Membership
ATTACH;FMTTYPE=image/jpeg:https://jolietdc.org/wp-content/uploads/2025/08/2025-2026-Membership-QR-Code-1.jpg
END:VEVENT
BEGIN:VEVENT
DTSTART;TZID=America/Chicago:20251018T170000
DTEND;TZID=America/Chicago:20251018T210000
DTSTAMP:20260423T135611
CREATED:20250825T204037Z
LAST-MODIFIED:20250904T003118Z
UID:3397-1760806800-1760821200@jolietdc.org
SUMMARY:2025 Bishop's Burse
DESCRIPTION:We will honor our Bishop Ronald Hicks and his ministries locally and abroad
URL:https://jolietdc.org/event/2025-bishops-burse/
LOCATION:Our Lady of Mercy – Aurora\, 701 S. Eola Road\, Aurora\, IL\, 60504\, United States
CATEGORIES:3rd Degree,4th Degree,Joliet Chapter
ATTACH;FMTTYPE=image/png:https://jolietdc.org/wp-content/uploads/2025/08/Bishop-Hicks-2.png
END:VEVENT
BEGIN:VEVENT
DTSTART;TZID=America/Chicago:20251018T160000
DTEND;TZID=America/Chicago:20251018T170000
DTSTAMP:20260423T135611
CREATED:20250809T210259Z
LAST-MODIFIED:20250904T003517Z
UID:3230-1760803200-1760806800@jolietdc.org
SUMMARY:St. Paul the Apostle Council # 11232 Membership Drive/Benefit Event DD32
DESCRIPTION:St Paul the Apostle Council # 11232 will conduct a Membership Drive / Benefits event immediately following the 4:00 PM Mass on Saturday October 18\, 2025 at St. Paul the Apostle Catholic Church 511 N. Conrad Av.  Peotone\, IL  60468.  All are invited
URL:https://jolietdc.org/event/st-paul-the-apostle-council-11232-membership-drive-benefits-event/
LOCATION:St. Paul the Apostle Church\, 511 N. Conrad Av.\, Peotone\, IL\, 60468\, United States
CATEGORIES:3rd Degree,Membership
ATTACH;FMTTYPE=image/jpeg:https://jolietdc.org/wp-content/uploads/2025/08/2025-2026-Membership-QR-Code-2.jpg
END:VEVENT
BEGIN:VEVENT
DTSTART;VALUE=DATE:20251017
DTEND;VALUE=DATE:20251018
DTSTAMP:20260423T135611
CREATED:20250912T160734Z
LAST-MODIFIED:20250912T160734Z
UID:3827-1760659200-1760745599@jolietdc.org
SUMMARY:SAFE Environment & Membership Drive Training
DESCRIPTION:Join us for SAFE Environment Training by the Territorial Growth Director  and our Regional Growth Director — Hosted by the Illinois State Council courtesy of the Archdiocesan Chairman of Chicago Dan Davis.  The goal of this event is to help Councils become safe environment compliant\, and to give you\, all the tools necessary to host recruitment events and have successful member growth opportunities in your parishes. More details to follow.
URL:https://jolietdc.org/event/safe-environment-membership-drive-training/
LOCATION:St. Hubert\, 729 Grand Canyon St\,\, Hoffman Estates\, IL\, 60169\, United States
CATEGORIES:3rd Degree,Programming,State Council
ATTACH;FMTTYPE=image/jpeg:https://jolietdc.org/wp-content/uploads/2025/09/SAFE-Environment.jpg
ORGANIZER;CN="Knights of Columbus Illinois State Council":MAILTO:denny@illinoisknights.org
END:VEVENT
BEGIN:VEVENT
DTSTART;TZID=America/Chicago:20251013T113000
DTEND;TZID=America/Chicago:20251013T143000
DTSTAMP:20260423T135611
CREATED:20250920T154454Z
LAST-MODIFIED:20250920T154507Z
UID:3880-1760355000-1760365800@jolietdc.org
SUMMARY:Columbus Day Parade
DESCRIPTION:9:00AM Columbus Day Mass Celebrated by Fr. Richard Fragomeni at Old St. Patrick’s Catholic Church Chicago \n11:30AM Columbus Day Opening Ceremonies – Corner of State & Wacker Chicago \n12PM Columbus Day Parade! State Street Chicago \n2:30PM Rush Street Reception! corner of Rush & Bellevue\, Chicago — Sponsored by The Bellevue\, Tavern on Rush\, Gibson’s & Carmine’s \nBus Service Available RSVP Required 708.450.9050 jcc@jccia.com
URL:https://jolietdc.org/event/columbus-day-parade/
LOCATION:Columbus Day Parade\, State St. and Wacker Dr.\, Chicago\, IL\, 60607\, United States
CATEGORIES:3rd Degree,4th Degree,Joliet Chapter,Membership,Programming,State Council
ATTACH;FMTTYPE=image/jpeg:https://jolietdc.org/wp-content/uploads/2025/09/Parade-Details.jpg
END:VEVENT
BEGIN:VEVENT
DTSTART;TZID=America/Chicago:20251009T143000
DTEND;TZID=America/Chicago:20251009T183000
DTSTAMP:20260423T135611
CREATED:20250915T135845Z
LAST-MODIFIED:20250915T140359Z
UID:3848-1760020200-1760034600@jolietdc.org
SUMMARY:Blood Drive - Council 15168 Lisle
DESCRIPTION:Donate blood! Save a life!
URL:https://jolietdc.org/event/blood-drive-council-15168-lisle/
LOCATION:St. Joan of Arc – Lisle
CATEGORIES:3rd Degree,Micro Drives,Programming
ATTACH;FMTTYPE=image/png:https://jolietdc.org/wp-content/uploads/2025/09/15168-Blood-Drive.png
END:VEVENT
BEGIN:VEVENT
DTSTART;TZID=America/Chicago:20251004T170000
DTEND;TZID=America/Chicago:20251004T180000
DTSTAMP:20260423T135611
CREATED:20250901T185725Z
LAST-MODIFIED:20250901T185725Z
UID:3627-1759597200-1759600800@jolietdc.org
SUMMARY:Installation Mass of Rev. Fr. Dindo Billote St. Francis of Assisi Bolingbrook
DESCRIPTION:Please join us on the Feast Day of our Patron Saint Francis of Assisi for this joyous occasion to install our new Pastor Rev. Father Dindo Billote as Pastor of our parish.  An Honor Guard has been requested and all who wish to participate should should up no later than 4:30PM.  A reception in the St. Francis Room will immediately follow the Mass. \n 
URL:https://jolietdc.org/event/installation-mass-of-rev-fr-dindo-billote-st-francis-of-assisi-bolingbrook/
LOCATION:St. Francis of Assisi Bolingbrook\, 1501 W Boughton Rd\, Bolingbrook\, IL\, 60490\, United States
CATEGORIES:3rd Degree,4th Degree
ATTACH;FMTTYPE=image/jpeg:https://jolietdc.org/wp-content/uploads/2025/09/Fr.-Dindo-Pastor-Installation.jpg
END:VEVENT
BEGIN:VEVENT
DTSTART;TZID=America/Chicago:20250928T090000
DTEND;TZID=America/Chicago:20250928T100000
DTSTAMP:20260423T135611
CREATED:20250831T190145Z
LAST-MODIFIED:20250901T175445Z
UID:3591-1759050000-1759053600@jolietdc.org
SUMMARY:St. Joseph Manteno Council 11358 Membership Drive DD32
DESCRIPTION:
URL:https://jolietdc.org/event/st-joseph-manteno-council-11358-membership-drive-dd32-2/
LOCATION:St. Joseph Manteno\, 207 S. Main Street\, Manteno\, IL\, 60950\, United States
CATEGORIES:3rd Degree,Membership
ATTACH;FMTTYPE=image/jpeg:https://jolietdc.org/wp-content/uploads/2025/08/2025-2026-Membership-QR-Code-1.jpg
END:VEVENT
BEGIN:VEVENT
DTSTART;TZID=America/Chicago:20250927T180000
DTEND;TZID=America/Chicago:20250927T220000
DTSTAMP:20260423T135611
CREATED:20250907T180406Z
LAST-MODIFIED:20250907T180406Z
UID:3743-1758996000-1759010400@jolietdc.org
SUMMARY:Reverse Raffle Council 3738
DESCRIPTION:Raffle fundraiser at the end of the month (September 27) which is their largest annual one-day\nfundraiser (“fun”draiser) for their hall expenses.
URL:https://jolietdc.org/event/reverse-raffle-council-3738/
LOCATION:Westmont Council Hall\, 25 N Cass Ave\, Westmont\, IL\, 60559\, United States
CATEGORIES:3rd Degree,4th Degree,Programming
ATTACH;FMTTYPE=image/png:https://jolietdc.org/wp-content/uploads/2025/09/ReverseRaffle-1-300x264-1.png
END:VEVENT
BEGIN:VEVENT
DTSTART;TZID=America/Chicago:20250927T173000
DTEND;TZID=America/Chicago:20250927T183000
DTSTAMP:20260423T135611
CREATED:20250831T185833Z
LAST-MODIFIED:20250901T151912Z
UID:3589-1758994200-1758997800@jolietdc.org
SUMMARY:St. Joseph Manteno Council 11358 Membership Drive DD32
DESCRIPTION:Vigil Mass
URL:https://jolietdc.org/event/st-joseph-manteno-council-11358-membership-drive-dd32/
LOCATION:St. Joseph Manteno\, 207 S. Main Street\, Manteno\, IL\, 60950\, United States
CATEGORIES:3rd Degree,Membership
ATTACH;FMTTYPE=image/jpeg:https://jolietdc.org/wp-content/uploads/2025/08/2025-2026-Membership-QR-Code.jpg
END:VEVENT
BEGIN:VEVENT
DTSTART;VALUE=DATE:20250927
DTEND;VALUE=DATE:20250928
DTSTAMP:20260423T135611
CREATED:20250825T203351Z
LAST-MODIFIED:20250901T175055Z
UID:3393-1758931200-1759017599@jolietdc.org
SUMMARY:Coaster Challenge Benefiting Special Olympics
DESCRIPTION:Contact Jerry Bevignani for Donations 630-747-4705 Email gameguru@aol.com \nSix Flags Training Status On 5/10/25 my Family began our Training for Coaster Challenge 2025. Lunch: Steelworks Pub Location: DC UNIVERSE Menu: Pasta\, Pizza\, Salad\, Beer\, Frozen Margaritas & Spirits (Lasagna & Salad are shown). Coasters: Raging Bull and Viper Dinner: Yukon BBQ Pit Location: Yukon Territory Menu: Smoked
URL:https://jolietdc.org/event/coaster-challenge-benefiting-special-olympics/
LOCATION:Six Flags Great America\, 1 Great America Parkway\, Gurnee\, IL\, 60031\, United States
CATEGORIES:3rd Degree,Programming
ATTACH;FMTTYPE=image/jpeg:https://jolietdc.org/wp-content/uploads/2025/08/JerryCarol-Coaster-Challenge.jpg
END:VEVENT
BEGIN:VEVENT
DTSTART;TZID=America/Chicago:20250922T140000
DTEND;TZID=America/Chicago:20250922T190000
DTSTAMP:20260423T135611
CREATED:20250909T025331Z
LAST-MODIFIED:20250909T025331Z
UID:3764-1758549600-1758567600@jolietdc.org
SUMMARY:Blood Drive - St Mary Mokena - Free Hot Dog Meal
DESCRIPTION:Come donate to help save a life. Also\, the Knights are cooking hot dogs for donors. \nThe drive is in the church hall below the church. \nAppointments are not required\, but those without will be fit in. \n  \nSign up at versiti.org \n 
URL:https://jolietdc.org/event/blood-drive-st-mary-mokena-free-hot-dog-meal/
LOCATION:St. Mary Mokena Church\, 19515 115th Ave\, Mokena\, 60448\, United States
CATEGORIES:3rd Degree
ATTACH;FMTTYPE=image/jpeg:https://jolietdc.org/wp-content/uploads/2025/09/Flyer.jpg
ORGANIZER;CN="St Mary Mokena Council 6693":MAILTO:knight@mokenaknights.org
END:VEVENT
BEGIN:VEVENT
DTSTART;TZID=America/Chicago:20250920T170000
DTEND;TZID=America/Chicago:20250920T220000
DTSTAMP:20260423T135611
CREATED:20250918T114931Z
LAST-MODIFIED:20250918T115104Z
UID:3875-1758387600-1758405600@jolietdc.org
SUMMARY:Halfway to St. Patrick's - Council 10944 Romeoville
DESCRIPTION:Come join the St Andrew’s Knights of columbus for a celebration including: dinner\, Live Entertainment\, open Bar\, and Raffles!  Cost $50
URL:https://jolietdc.org/event/halfway-to-st-patricks-council-10944-romeoville/
LOCATION:Fat Ricky’s Romeoville\, 646 N. Independence Dr.\, Romeoville\, IL\, 60446\, United States
CATEGORIES:3rd Degree,Membership,Micro Drives,Programming
ATTACH;FMTTYPE=image/jpeg:https://jolietdc.org/wp-content/uploads/2025/09/IMG_3759.jpg
END:VEVENT
BEGIN:VEVENT
DTSTART;VALUE=DATE:20250920
DTEND;VALUE=DATE:20250921
DTSTAMP:20260423T135611
CREATED:20250907T193639Z
LAST-MODIFIED:20250907T193639Z
UID:3758-1758326400-1758412799@jolietdc.org
SUMMARY:Oktoberfest Notre Dame Parish Council 15296
DESCRIPTION:
URL:https://jolietdc.org/event/oktoberfest-notre-dame-parish-council-15296/
LOCATION:Notre Dame Clarendon Hills\, 64 Norfolk\, Clarendon Hills\, IL\, 60514\, United States
CATEGORIES:3rd Degree,Programming
ATTACH;FMTTYPE=image/png:https://jolietdc.org/wp-content/uploads/2025/09/download.png
END:VEVENT
BEGIN:VEVENT
DTSTART;TZID=America/Chicago:20250913T130000
DTEND;TZID=America/Chicago:20250913T140000
DTSTAMP:20260423T135611
CREATED:20250901T173726Z
LAST-MODIFIED:20250901T174436Z
UID:3611-1757768400-1757772000@jolietdc.org
SUMMARY:National Day of Remembrance- Resurrection Cemetery Romeoville
DESCRIPTION:Those in intending to be in the honor guard plase arrive at 12:30PM \n  \nSaturday\, September 13 \nOn Saturday\, September 13\, pro-life Americans will honor the memory of the more than 66 million unborn victims of abortion during the National Day of Remembrance for Aborted Children. Solemn prayer services will be held simultaneously at gravesites around the country where abortion victims have been buried\, as well as at many other memorial sites dedicated in their honor. \nJoin us for the National Day of Remembrance for Aborted Children and ensure that our unborn brothers and sisters will not be forgotten. \nOur local Memorial Service will be held at Resurrection Cemetery\, located at 200 W. Romeo Road in Romeoville\, in the Garden of Angels Section\, at 1:00 p.m. \n\nPresider: Fr. Matt Lamoureux\, MIC\, Pastor St. Patrick’s Parish\, Yorkville\, IL\nSpeaker: Angelica Perry\, “An Audience of One”\nSpeaker: Hope Fryer\, “ProLife Activism is for Everyone”\n\nContact Don Hrdlicka at 630-415-6603 or pharmdon@hotmail.com with any questions about the event. \nFor more information on this event\, visit NationalDayOfRemembrance.org
URL:https://jolietdc.org/event/national-day-of-remembrance/
LOCATION:Resurrection Cemetery\, 200 W. Romeo Rd.\, Romeoville\, IL\, 60446\, United States
CATEGORIES:3rd Degree,4th Degree,Joliet Chapter,Programming
ATTACH;FMTTYPE=image/webp:https://jolietdc.org/wp-content/uploads/2025/09/Day-of-Remembrance-web-1.jpg.webp
END:VEVENT
BEGIN:VEVENT
DTSTART;TZID=America/Chicago:20250911T153000
DTEND;TZID=America/Chicago:20250911T193000
DTSTAMP:20260423T135611
CREATED:20250907T191654Z
LAST-MODIFIED:20250907T192013Z
UID:3751-1757604600-1757619000@jolietdc.org
SUMMARY:Blood Drive at St . Joseph Downers Grove Council 14649
DESCRIPTION:a blood drive to support first\nresponders on Thursday\, September 11.
URL:https://jolietdc.org/event/blood-drive/
LOCATION:St. Joseph Downers Grove\, 4801 Main St\, Downers Grove\, IL\, 60515\, United States
CATEGORIES:3rd Degree
ATTACH;FMTTYPE=image/jpeg:https://jolietdc.org/wp-content/uploads/2025/09/download.jpg
END:VEVENT
BEGIN:VEVENT
DTSTART;VALUE=DATE:20250911
DTEND;VALUE=DATE:20250912
DTSTAMP:20260423T135611
CREATED:20250907T182041Z
LAST-MODIFIED:20250907T182111Z
UID:3746-1757548800-1757635199@jolietdc.org
SUMMARY:Serve Meals at Daybreak Center Council 4053
DESCRIPTION:Contact DD Chris Simon for details \n  \nDaybreak Center\n611 E. Cass Street\nJoliet\, IL  60432\n815-774-4663 \nBarb Sullivan-Thurlby\nDivision Director of Community Services\n815-723-3405 \nColleen Conwood\nDirector of Daybreak Center\n815-774-4663
URL:https://jolietdc.org/event/serve-meals-at-daybreak-center-council-4053/
LOCATION:Daybreak Center\, 611 E. Cass St.\, Joliet\, IL\, 60432\, United States
CATEGORIES:3rd Degree,Charity,Programming
ATTACH;FMTTYPE=image/png:https://jolietdc.org/wp-content/uploads/2025/09/doicese_logo1.png
END:VEVENT
BEGIN:VEVENT
DTSTART;TZID=America/Chicago:20250909T180000
DTEND;TZID=America/Chicago:20250909T190000
DTSTAMP:20260423T135611
CREATED:20250907T175909Z
LAST-MODIFIED:20250907T175909Z
UID:3739-1757440800-1757444400@jolietdc.org
SUMMARY:CUF Exemplification Council 3738
DESCRIPTION:Bring your candidates and your pin and rosary
URL:https://jolietdc.org/event/cuf-exemplification-council-3738/
LOCATION:Westmont Council Hall\, 25 N Cass Ave\, Westmont\, IL\, 60559\, United States
CATEGORIES:3rd Degree,CUF Exemplification,Membership
ATTACH;FMTTYPE=image/jpeg:https://jolietdc.org/wp-content/uploads/2025/08/2025-2026-Membership-QR-Code-3.jpg
END:VEVENT
BEGIN:VEVENT
DTSTART;TZID=America/Chicago:20250909T163000
DTEND;TZID=America/Chicago:20250909T183000
DTSTAMP:20260423T135611
CREATED:20250903T014226Z
LAST-MODIFIED:20250903T014349Z
UID:3671-1757435400-1757442600@jolietdc.org
SUMMARY:4th Annual KofC Waterleaf Open House
DESCRIPTION:Faith\, Fellowship\, and Fun!!!!
URL:https://jolietdc.org/event/4th-annual-kofc-waterleaf-open-house/
LOCATION:Waterleaf Aurora\, 3055 East New York Ave\, Aurora\, IL\, 60504\, United States
CATEGORIES:3rd Degree,Programming
ATTACH;FMTTYPE=image/png:https://jolietdc.org/wp-content/uploads/2025/09/15037-Waterleaf-OpenHouse.png
END:VEVENT
BEGIN:VEVENT
DTSTART;TZID=America/Chicago:20250830T100000
DTEND;TZID=America/Chicago:20250830T110000
DTSTAMP:20260423T135611
CREATED:20250824T140048Z
LAST-MODIFIED:20250824T140048Z
UID:3379-1756548000-1756551600@jolietdc.org
SUMMARY:Silver Rose: St. Dennis Transfer to Peoria (English)
DESCRIPTION:Diocesan Leadership Team Assemblies 202\,204\,209\,3044\,3232\, 3197 and Peoria Marshalls Transfer to Peoria \nMichael Enos 630-842-3870  \nCouncils 1176 and 18043
URL:https://jolietdc.org/event/silver-rose-st-dennis-transfer-to-peoria-english/
LOCATION:St. Dennis Lockport\, 1214 S. Hamilton Ave\, Lockport\, IL\, 60441\, United States
CATEGORIES:3rd Degree,Programming
ATTACH;FMTTYPE=image/jpeg:https://jolietdc.org/wp-content/uploads/2025/08/silver-rose-devotion.jpg
END:VEVENT
BEGIN:VEVENT
DTSTART;TZID=America/Chicago:20250829T190000
DTEND;TZID=America/Chicago:20250829T200000
DTSTAMP:20260423T135611
CREATED:20250824T232953Z
LAST-MODIFIED:20250824T232953Z
UID:3383-1756494000-1756497600@jolietdc.org
SUMMARY:Silver Rose: St. John the Baptist (Spanish)
DESCRIPTION:District 33: Assembly 204 Southern Route State Rose \nNorm Bishop 303-475-0608
URL:https://jolietdc.org/event/silver-rose-st-john-the-baptist-spanish/
LOCATION:St. John the Baptist Joliet\, 404 N. Hickory St\, Joliet\, IL\, 60435\, United States
CATEGORIES:3rd Degree,Programming
END:VEVENT
BEGIN:VEVENT
DTSTART;TZID=America/Chicago:20250829T190000
DTEND;TZID=America/Chicago:20250829T200000
DTSTAMP:20260423T135611
CREATED:20250824T135647Z
LAST-MODIFIED:20250824T135647Z
UID:3376-1756494000-1756497600@jolietdc.org
SUMMARY:Silver Rose: St. Patrick Joliet (Spanish)
DESCRIPTION:District 37: Assembly 204 Southern Route State Rose \nContact Bernie Lovati 847-989-0989
URL:https://jolietdc.org/event/silver-rose-st-patrick-joliet-spanish/
LOCATION:St. Patrick Joliet\, 710 W. Marion\, Joliet\, IL\, 60435\, United States
CATEGORIES:3rd Degree,Programming
ATTACH;FMTTYPE=image/jpeg:https://jolietdc.org/wp-content/uploads/2025/08/silver-rose-devotion.jpg
END:VEVENT
BEGIN:VEVENT
DTSTART;TZID=America/Chicago:20250829T100000
DTEND;TZID=America/Chicago:20250829T110000
DTSTAMP:20260423T135611
CREATED:20250824T135306Z
LAST-MODIFIED:20250824T135306Z
UID:3372-1756461600-1756465200@jolietdc.org
SUMMARY:Silver Rose: Queen of Apostles School Joliet (English)
DESCRIPTION:District 37: Assembly 204 Southern Route State Rose \nContact Bernie Lovati 847-989-0989
URL:https://jolietdc.org/event/silver-rose-queen-of-apostles-school-joliet-english/
LOCATION:Queen of Apostles School\, 18 E. Woodlawn Ave\, Joliet\, IL\, 60435\, United States
CATEGORIES:3rd Degree,Programming
ATTACH;FMTTYPE=image/jpeg:https://jolietdc.org/wp-content/uploads/2025/08/silver-rose-devotion.jpg
END:VEVENT
END:VCALENDAR