BEGIN:VCALENDAR
VERSION:2.0
PRODID:-//Joliet Fraternal Leaders - ECPv6.15.20//NONSGML v1.0//EN
CALSCALE:GREGORIAN
METHOD:PUBLISH
X-ORIGINAL-URL:https://jolietdc.org
X-WR-CALDESC:Events for Joliet Fraternal Leaders
REFRESH-INTERVAL;VALUE=DURATION:PT1H
X-Robots-Tag:noindex
X-PUBLISHED-TTL:PT1H
BEGIN:VTIMEZONE
TZID:America/Chicago
BEGIN:DAYLIGHT
TZOFFSETFROM:-0600
TZOFFSETTO:-0500
TZNAME:CDT
DTSTART:20240310T080000
END:DAYLIGHT
BEGIN:STANDARD
TZOFFSETFROM:-0500
TZOFFSETTO:-0600
TZNAME:CST
DTSTART:20241103T070000
END:STANDARD
BEGIN:DAYLIGHT
TZOFFSETFROM:-0600
TZOFFSETTO:-0500
TZNAME:CDT
DTSTART:20250309T080000
END:DAYLIGHT
BEGIN:STANDARD
TZOFFSETFROM:-0500
TZOFFSETTO:-0600
TZNAME:CST
DTSTART:20251102T070000
END:STANDARD
BEGIN:DAYLIGHT
TZOFFSETFROM:-0600
TZOFFSETTO:-0500
TZNAME:CDT
DTSTART:20260308T080000
END:DAYLIGHT
BEGIN:STANDARD
TZOFFSETFROM:-0500
TZOFFSETTO:-0600
TZNAME:CST
DTSTART:20261101T070000
END:STANDARD
END:VTIMEZONE
BEGIN:VEVENT
DTSTART;TZID=America/Chicago:20250829T190000
DTEND;TZID=America/Chicago:20250829T200000
DTSTAMP:20260423T171704
CREATED:20250824T232953Z
LAST-MODIFIED:20250824T232953Z
UID:3383-1756494000-1756497600@jolietdc.org
SUMMARY:Silver Rose: St. John the Baptist (Spanish)
DESCRIPTION:District 33: Assembly 204 Southern Route State Rose \nNorm Bishop 303-475-0608
URL:https://jolietdc.org/event/silver-rose-st-john-the-baptist-spanish/
LOCATION:St. John the Baptist Joliet\, 404 N. Hickory St\, Joliet\, IL\, 60435\, United States
CATEGORIES:3rd Degree,Programming
END:VEVENT
BEGIN:VEVENT
DTSTART;TZID=America/Chicago:20250829T190000
DTEND;TZID=America/Chicago:20250829T200000
DTSTAMP:20260423T171704
CREATED:20250824T135647Z
LAST-MODIFIED:20250824T135647Z
UID:3376-1756494000-1756497600@jolietdc.org
SUMMARY:Silver Rose: St. Patrick Joliet (Spanish)
DESCRIPTION:District 37: Assembly 204 Southern Route State Rose \nContact Bernie Lovati 847-989-0989
URL:https://jolietdc.org/event/silver-rose-st-patrick-joliet-spanish/
LOCATION:St. Patrick Joliet\, 710 W. Marion\, Joliet\, IL\, 60435\, United States
CATEGORIES:3rd Degree,Programming
ATTACH;FMTTYPE=image/jpeg:https://jolietdc.org/wp-content/uploads/2025/08/silver-rose-devotion.jpg
END:VEVENT
BEGIN:VEVENT
DTSTART;TZID=America/Chicago:20250829T100000
DTEND;TZID=America/Chicago:20250829T110000
DTSTAMP:20260423T171704
CREATED:20250824T135306Z
LAST-MODIFIED:20250824T135306Z
UID:3372-1756461600-1756465200@jolietdc.org
SUMMARY:Silver Rose: Queen of Apostles School Joliet (English)
DESCRIPTION:District 37: Assembly 204 Southern Route State Rose \nContact Bernie Lovati 847-989-0989
URL:https://jolietdc.org/event/silver-rose-queen-of-apostles-school-joliet-english/
LOCATION:Queen of Apostles School\, 18 E. Woodlawn Ave\, Joliet\, IL\, 60435\, United States
CATEGORIES:3rd Degree,Programming
ATTACH;FMTTYPE=image/jpeg:https://jolietdc.org/wp-content/uploads/2025/08/silver-rose-devotion.jpg
END:VEVENT
BEGIN:VEVENT
DTSTART;TZID=America/Chicago:20250828T190000
DTEND;TZID=America/Chicago:20250828T200000
DTSTAMP:20260423T171704
CREATED:20250824T133126Z
LAST-MODIFIED:20250824T134858Z
UID:3365-1756407600-1756411200@jolietdc.org
SUMMARY:Silver Rose: St. Mary Nativity Joliet (Multicultural)
DESCRIPTION:District 37: Assembly 204 Southern Route State Rose \nContact Craig Mazur Craig Mazur 708-712-3989
URL:https://jolietdc.org/event/silver-rose-st-mary-nativity-joliet-multicultural/
LOCATION:St. Mary Nativity Joliet\, 706 N. Broadway\, Joliet\, IL\, 60435\, United States
CATEGORIES:3rd Degree,Programming
ATTACH;FMTTYPE=image/jpeg:https://jolietdc.org/wp-content/uploads/2025/08/silver-rose-devotion.jpg
END:VEVENT
BEGIN:VEVENT
DTSTART;TZID=America/Chicago:20250828T190000
DTEND;TZID=America/Chicago:20250828T200000
DTSTAMP:20260423T171704
CREATED:20250824T131718Z
LAST-MODIFIED:20250824T131718Z
UID:3359-1756407600-1756411200@jolietdc.org
SUMMARY:Silver Rose: St. Andrew the Apostle Romeoville (Multicultural)
DESCRIPTION:District 33: Assembly 3232  \nContact Angel Sifuentes 815-514-6429
URL:https://jolietdc.org/event/silver-rose-st-andrew-the-apostle-romeoville-multicultural/
LOCATION:St. Andrew the Apostle Romeoville\, 505 Kingston Dr.\, Romeoville\, IL\, 60446\, United States
CATEGORIES:3rd Degree,Programming
ATTACH;FMTTYPE=image/jpeg:https://jolietdc.org/wp-content/uploads/2025/08/silver-rose-devotion.jpg
END:VEVENT
BEGIN:VEVENT
DTSTART;TZID=America/Chicago:20250828T130000
DTEND;TZID=America/Chicago:20250828T140000
DTSTAMP:20260423T171704
CREATED:20250824T001239Z
LAST-MODIFIED:20250824T001239Z
UID:3355-1756386000-1756389600@jolietdc.org
SUMMARY:Silver Rose: St. Mary Immaculate School (English)
DESCRIPTION:District 33: Assembly 3232  \nContact Kevin Fischer 815–355-0383
URL:https://jolietdc.org/event/silver-rose-st-mary-immaculate-school-english/
LOCATION:St. Mary Immaculate School\, 15629 Route 59\, Plainfield\, IL\, 60544\, United States
CATEGORIES:3rd Degree,Programming
ATTACH;FMTTYPE=image/jpeg:https://jolietdc.org/wp-content/uploads/2025/08/silver-rose-devotion.jpg
END:VEVENT
BEGIN:VEVENT
DTSTART;TZID=America/Chicago:20250828T100000
DTEND;TZID=America/Chicago:20250828T110000
DTSTAMP:20260423T171704
CREATED:20250824T132359Z
LAST-MODIFIED:20250824T134511Z
UID:3363-1756375200-1756378800@jolietdc.org
SUMMARY:Silver Rose: St. Jude School New Lenox (English)
DESCRIPTION:District 36: Assembly 204 Southern Route State Rose \nContact Chuck Garland 815-342-7595
URL:https://jolietdc.org/event/silver-rose-st-jude-school-new-lenox-english/
LOCATION:St. Jude New Lenox\, 241 W. 2nd St.\, New Lenox\, IL\, 60451\, United States
CATEGORIES:3rd Degree,Programming
ATTACH;FMTTYPE=image/jpeg:https://jolietdc.org/wp-content/uploads/2025/08/silver-rose-devotion.jpg
END:VEVENT
BEGIN:VEVENT
DTSTART;TZID=America/Chicago:20250827T190000
DTEND;TZID=America/Chicago:20250827T200000
DTSTAMP:20260423T171704
CREATED:20250823T174835Z
LAST-MODIFIED:20250823T174835Z
UID:3332-1756321200-1756324800@jolietdc.org
SUMMARY:Silver Rose: St. Anthony (English)
DESCRIPTION:District 35: Assembly 204 Southern Route State Rose \n  \nContact  708-927-3591
URL:https://jolietdc.org/event/silver-rose-st-anthony-english/
LOCATION:St. Anthony Frankfort\, 7659 W. Sauk Trail\, Frankfort\, IL\, 60423\, United States
CATEGORIES:3rd Degree,Programming
ATTACH;FMTTYPE=image/jpeg:https://jolietdc.org/wp-content/uploads/2025/08/silver-rose-devotion.jpg
END:VEVENT
BEGIN:VEVENT
DTSTART;TZID=America/Chicago:20250827T183000
DTEND;TZID=America/Chicago:20250827T193000
DTSTAMP:20260423T171704
CREATED:20250823T175140Z
LAST-MODIFIED:20250823T183730Z
UID:3336-1756319400-1756323000@jolietdc.org
SUMMARY:Silver Rose: St. Francis Xavier (English)
DESCRIPTION:District 31: Assembly 3232 \nChuck Allen 815-953-7145 \n 
URL:https://jolietdc.org/event/silver-rose-st-francis-xavier-english/
LOCATION:IL
CATEGORIES:3rd Degree,Programming
ATTACH;FMTTYPE=image/jpeg:https://jolietdc.org/wp-content/uploads/2025/08/silver-rose-devotion.jpg
END:VEVENT
BEGIN:VEVENT
DTSTART;TZID=America/Chicago:20250827T080000
DTEND;TZID=America/Chicago:20250827T103000
DTSTAMP:20260423T171704
CREATED:20250823T173356Z
LAST-MODIFIED:20250823T190340Z
UID:3330-1756281600-1756290600@jolietdc.org
SUMMARY:Silver Rose: St. Raphael (English)
DESCRIPTION:District 33: Assembly 3044  \nContact Nick DiGiovanni 630-777-8158
URL:https://jolietdc.org/event/silver-rose-st-raphael-english/
LOCATION:St. Raphael Naperville\, 1215 S. Modaff Rd.\, Naperville\, IL\, 60540\, United States
CATEGORIES:3rd Degree,Programming
ATTACH;FMTTYPE=image/jpeg:https://jolietdc.org/wp-content/uploads/2025/08/silver-rose-devotion.jpg
END:VEVENT
BEGIN:VEVENT
DTSTART;TZID=America/Chicago:20250826T190000
DTEND;TZID=America/Chicago:20250826T200000
DTSTAMP:20260423T171704
CREATED:20250823T172555Z
LAST-MODIFIED:20250823T172555Z
UID:3327-1756234800-1756238400@jolietdc.org
SUMMARY:Silver Rose: St. Francis of Assisi (Multi-Cultural)
DESCRIPTION:District 29:Assembly 209 (English) \nContact Steve Wagner 630-660-0399
URL:https://jolietdc.org/event/silver-rose-st-francis-of-assisi-multi-cultural/
LOCATION:St. Francis of Assisi Bolingbrook\, 1501 W Boughton Rd\, Bolingbrook\, IL\, 60490\, United States
CATEGORIES:3rd Degree,Programming
ATTACH;FMTTYPE=image/jpeg:https://jolietdc.org/wp-content/uploads/2025/08/silver-rose-devotion.jpg
END:VEVENT
BEGIN:VEVENT
DTSTART;TZID=America/Chicago:20250826T190000
DTEND;TZID=America/Chicago:20250826T200000
DTSTAMP:20260423T171704
CREATED:20250823T170523Z
LAST-MODIFIED:20250823T170523Z
UID:3321-1756234800-1756238400@jolietdc.org
SUMMARY:Silver Rose: St. Liborius Steger (English)
DESCRIPTION:District 32: Assembly 202 Southern Route State Route  \nContact Jamie Jones 708-312-6789
URL:https://jolietdc.org/event/silver-rose-st-liborius-steger-english/
LOCATION:St. Liborius Steger\, 71 W. 35th St.\, Steger\, IL\, 60475\, United States
CATEGORIES:3rd Degree,Programming
ATTACH;FMTTYPE=image/jpeg:https://jolietdc.org/wp-content/uploads/2025/08/silver-rose-devotion.jpg
END:VEVENT
BEGIN:VEVENT
DTSTART;TZID=America/Chicago:20250826T100000
DTEND;TZID=America/Chicago:20250826T110000
DTSTAMP:20260423T171704
CREATED:20250823T171623Z
LAST-MODIFIED:20250823T171623Z
UID:3324-1756202400-1756206000@jolietdc.org
SUMMARY:Silver Rose: St. Scholastica School (English)
DESCRIPTION:District 29: Assembly 3044 (English)  \nContact John Lausus 630-745-7912 \n 
URL:https://jolietdc.org/event/silver-rose-st-scholastica-school-english/
LOCATION:St. Scholastica\, 7800 Janes Ave\, Woodridge\, IL\, 60517\, United States
CATEGORIES:3rd Degree,Programming
ATTACH;FMTTYPE=image/jpeg:https://jolietdc.org/wp-content/uploads/2025/08/silver-rose-devotion.jpg
END:VEVENT
BEGIN:VEVENT
DTSTART;TZID=America/Chicago:20250826T100000
DTEND;TZID=America/Chicago:20250826T110000
DTSTAMP:20260423T171704
CREATED:20250823T161437Z
LAST-MODIFIED:20250823T161437Z
UID:3316-1756202400-1756206000@jolietdc.org
SUMMARY:Silver Rose: Mother Teresa Catholic Academy Crete (English)
DESCRIPTION:District 32: Assebmly 202 Southern Route State Rose \nContact: Jamie Jones 708-312-6789 \n 
URL:https://jolietdc.org/event/silver-rose-mother-teresa-catholic-academy-crete-english/
LOCATION:Mother Teresa Catholic Academy\, 24201 S. Kings Dr.\, Crete\, IL\, 60417\, United States
CATEGORIES:3rd Degree,Programming
ATTACH;FMTTYPE=image/jpeg:https://jolietdc.org/wp-content/uploads/2025/08/silver-rose-devotion.jpg
END:VEVENT
BEGIN:VEVENT
DTSTART;TZID=America/Chicago:20250825T190000
DTEND;TZID=America/Chicago:20250825T200000
DTSTAMP:20260423T171704
CREATED:20250823T160344Z
LAST-MODIFIED:20250823T160344Z
UID:3313-1756148400-1756152000@jolietdc.org
SUMMARY:Silver Rose: St. Joseph Manteno (English)
DESCRIPTION:District 32: Assembly 202 Southern Route State Rose \nContact Ed Leeson 815-468-7419
URL:https://jolietdc.org/event/silver-rose-st-joseph-manteno-english/
LOCATION:St. Joseph Manteno\, 207 S. Main Street\, Manteno\, IL\, 60950\, United States
CATEGORIES:3rd Degree,Programming
ATTACH;FMTTYPE=image/jpeg:https://jolietdc.org/wp-content/uploads/2025/08/silver-rose-devotion.jpg
END:VEVENT
BEGIN:VEVENT
DTSTART;TZID=America/Chicago:20250825T190000
DTEND;TZID=America/Chicago:20250825T200000
DTSTAMP:20260423T171704
CREATED:20250823T155715Z
LAST-MODIFIED:20250823T155715Z
UID:3310-1756148400-1756152000@jolietdc.org
SUMMARY:Silver Rose: Notre Dame Clarendon Hills (English)
DESCRIPTION:District 25: Assembly 209 (English)  \nChris Simon 331-643-1557
URL:https://jolietdc.org/event/silver-rose-notre-dame-clarendon-hills-english/
LOCATION:Notre Dame Clarendon Hills\, 64 Norfolk\, Clarendon Hills\, IL\, 60514\, United States
CATEGORIES:3rd Degree,Programming
ATTACH;FMTTYPE=image/jpeg:https://jolietdc.org/wp-content/uploads/2025/08/silver-rose-devotion.jpg
END:VEVENT
BEGIN:VEVENT
DTSTART;TZID=America/Chicago:20250825T160000
DTEND;TZID=America/Chicago:20250825T200000
DTSTAMP:20260423T171704
CREATED:20250825T202546Z
LAST-MODIFIED:20250825T202546Z
UID:3389-1756137600-1756152000@jolietdc.org
SUMMARY:Special Olympics Illinois Fundraiser
DESCRIPTION:Help Support Special Olympics
URL:https://jolietdc.org/event/special-olympics-illinois-fundraiser/
LOCATION:Texas Roadhouse\, 986 N. State Route 59\, Aurora\, IL\, 60504\, United States
CATEGORIES:3rd Degree,Programming
ATTACH;FMTTYPE=image/png:https://jolietdc.org/wp-content/uploads/2024/11/PG-Life-2.png
END:VEVENT
BEGIN:VEVENT
DTSTART;TZID=America/Chicago:20250825T100000
DTEND;TZID=America/Chicago:20250825T110000
DTSTAMP:20260423T171704
CREATED:20250823T154429Z
LAST-MODIFIED:20250823T154429Z
UID:3304-1756116000-1756119600@jolietdc.org
SUMMARY:Silver Rose: St. Pius X Lombard (English)
DESCRIPTION:District 28: Assembly 209 (English)  \nContact Stephen Wallace 630-251-3072
URL:https://jolietdc.org/event/silver-rose-st-pius-x-lombard-english/
LOCATION:St. Pius X Lombard\, 1025 E. Madison St.\, Lombard\, IL\, 60148\, United States
CATEGORIES:3rd Degree,Programming
ATTACH;FMTTYPE=image/jpeg:https://jolietdc.org/wp-content/uploads/2025/08/silver-rose-devotion.jpg
END:VEVENT
BEGIN:VEVENT
DTSTART;TZID=America/Chicago:20250824T183000
DTEND;TZID=America/Chicago:20250824T193000
DTSTAMP:20260423T171704
CREATED:20250823T190015Z
LAST-MODIFIED:20250823T190015Z
UID:3348-1756060200-1756063800@jolietdc.org
SUMMARY:Silver Rose: St. Joseph Addison (Spanish)
DESCRIPTION:District 23: Assembly 209 Available at Masses 7am English; 9am Spanish;  11am English \, 1PM Spanish\, 6:30PM Spanish \nContact: Joaquin Rivera 630-776-6043
URL:https://jolietdc.org/event/silver-rose-st-joseph-addison-spanish-3/
LOCATION:St. Joseph Addison\, 330 E. Fullerton\, Addison\, IL\, 60101\, United States
CATEGORIES:3rd Degree,Programming
ATTACH;FMTTYPE=image/jpeg:https://jolietdc.org/wp-content/uploads/2025/08/silver-rose-devotion.jpg
END:VEVENT
BEGIN:VEVENT
DTSTART;TZID=America/Chicago:20250824T130000
DTEND;TZID=America/Chicago:20250824T140000
DTSTAMP:20260423T171704
CREATED:20250823T185748Z
LAST-MODIFIED:20250823T185748Z
UID:3346-1756040400-1756044000@jolietdc.org
SUMMARY:Silver Rose: St. Joseph Addison (Spanish)
DESCRIPTION:District 23: Assembly 209 Available at Masses 7am English; 9am Spanish;  11am English \, 1PM Spanish\, 6:30PM Spanish \nContact: Joaquin Rivera 630-776-6043
URL:https://jolietdc.org/event/silver-rose-st-joseph-addison-spanish-2/
LOCATION:St. Joseph Addison\, 330 E. Fullerton\, Addison\, IL\, 60101\, United States
CATEGORIES:3rd Degree,Programming
ATTACH;FMTTYPE=image/jpeg:https://jolietdc.org/wp-content/uploads/2025/08/silver-rose-devotion.jpg
END:VEVENT
BEGIN:VEVENT
DTSTART;TZID=America/Chicago:20250824T110000
DTEND;TZID=America/Chicago:20250824T120000
DTSTAMP:20260423T171704
CREATED:20250823T185514Z
LAST-MODIFIED:20250823T190715Z
UID:3344-1756033200-1756036800@jolietdc.org
SUMMARY:Silver Rose: St. Joseph Addison (English)
DESCRIPTION:District 23: Assembly 209 Available at Masses 7am English; 9am Spanish;  11am English \, 1PM Spanish\, 6:30PM Spanish \n Contact: Joaquin Rivera 630-776-6043
URL:https://jolietdc.org/event/silver-rose-st-joseph-addison-english/
LOCATION:St. Joseph Addison\, 330 E. Fullerton\, Addison\, IL\, 60101\, United States
CATEGORIES:3rd Degree,Programming
ATTACH;FMTTYPE=image/jpeg:https://jolietdc.org/wp-content/uploads/2025/08/silver-rose-devotion.jpg
END:VEVENT
BEGIN:VEVENT
DTSTART;TZID=America/Chicago:20250824T110000
DTEND;TZID=America/Chicago:20250824T120000
DTSTAMP:20260423T171704
CREATED:20250823T144117Z
LAST-MODIFIED:20250823T154538Z
UID:3298-1756033200-1756036800@jolietdc.org
SUMMARY:Silver Rose: Immaculate Conception/Our Lady of Guadalupe Parish Gilman (SPANISH)
DESCRIPTION:District 34: Assembly 3197 (Spanish) Southern Route State Rose  \nContact Victor Vasquez 217-493-9025
URL:https://jolietdc.org/event/silver-rose-immaculate-conception-our-lady-of-guadalupe-parish-spanish/
LOCATION:Immaculate Conception/Our Lady of Guadalupe Parish\, 231 N Secor St.\, Gilman\, IL\, 60938\, United States
CATEGORIES:3rd Degree,Programming
ATTACH;FMTTYPE=image/jpeg:https://jolietdc.org/wp-content/uploads/2025/08/silver-rose-devotion.jpg
END:VEVENT
BEGIN:VEVENT
DTSTART;TZID=America/Chicago:20250824T090000
DTEND;TZID=America/Chicago:20250824T100000
DTSTAMP:20260423T171704
CREATED:20250823T184921Z
LAST-MODIFIED:20250823T184921Z
UID:3342-1756026000-1756029600@jolietdc.org
SUMMARY:Silver Rose: St. Joseph Addison (Spanish)
DESCRIPTION:District 23: Assembly 209 Available at Masses 7am English; 9am Spanish;  11am English \, 1PM Spanish\, 6:30PM Spanish \n Contact: Joaquin Rivera 630-776-6043
URL:https://jolietdc.org/event/silver-rose-st-joseph-addison-spanish/
LOCATION:St. Joseph Addison\, 330 E. Fullerton\, Addison\, IL\, 60101\, United States
CATEGORIES:3rd Degree,Programming
ATTACH;FMTTYPE=image/jpeg:https://jolietdc.org/wp-content/uploads/2025/08/silver-rose-devotion.jpg
END:VEVENT
BEGIN:VEVENT
DTSTART;TZID=America/Chicago:20250824T070000
DTEND;TZID=America/Chicago:20250824T080000
DTSTAMP:20260423T171704
CREATED:20250823T184546Z
LAST-MODIFIED:20250823T184546Z
UID:3339-1756018800-1756022400@jolietdc.org
SUMMARY:Silver Rose: St Joseph Addison (English) Mass
DESCRIPTION:District 23: Assembly 209 Available at Masses 7am English; 9am Spanish;  11am English \, 1PM Spanish\, 6:30PM Spanish \n Contact: Joaquin Rivera 630-776-6043
URL:https://jolietdc.org/event/silver-rose-st-joseph-addison-english-mass/
LOCATION:St. Joseph Addison\, 330 E. Fullerton\, Addison\, IL\, 60101\, United States
CATEGORIES:3rd Degree,Programming
END:VEVENT
BEGIN:VEVENT
DTSTART;TZID=America/Chicago:20250823T183000
DTEND;TZID=America/Chicago:20250823T193000
DTSTAMP:20260423T171704
CREATED:20250823T140423Z
LAST-MODIFIED:20250823T144532Z
UID:3293-1755973800-1755977400@jolietdc.org
SUMMARY:Silver Rose: St Joseph Addison (Spanish) Mass
DESCRIPTION:District 23: Assembly 209 Vigil Masses 4:30PM English; 6:30PM Spanish \nContact Joaquin Rivera 630-776-6043
URL:https://jolietdc.org/event/silver-rose-st-joseph-addison-spanish-mass/
LOCATION:St. Joseph Addison\, 330 E. Fullerton\, Addison\, IL\, 60101\, United States
CATEGORIES:3rd Degree,Programming
ATTACH;FMTTYPE=image/jpeg:https://jolietdc.org/wp-content/uploads/2025/08/silver-rose-devotion.jpg
END:VEVENT
BEGIN:VEVENT
DTSTART;TZID=America/Chicago:20250823T180000
DTEND;TZID=America/Chicago:20250823T190000
DTSTAMP:20260423T171704
CREATED:20250823T150703Z
LAST-MODIFIED:20250823T154637Z
UID:3295-1755972000-1755975600@jolietdc.org
SUMMARY:Silver Rose: Our Lady of Lourdes Gibson City (English)
DESCRIPTION:District 34: Assembly 3197 (English) Southern Route State Rose — Contact victor Vasquez 217-493-9025
URL:https://jolietdc.org/event/silver-rose-our-lady-of-lourdes/
LOCATION:Our Lady of Lourdes\, 534 N Wood St.\, Gibson City\, IL\, United States
CATEGORIES:3rd Degree,Programming
ATTACH;FMTTYPE=image/jpeg:https://jolietdc.org/wp-content/uploads/2025/08/silver-rose-devotion.jpg
END:VEVENT
BEGIN:VEVENT
DTSTART;TZID=America/Chicago:20250823T163000
DTEND;TZID=America/Chicago:20250823T173000
DTSTAMP:20260423T171704
CREATED:20250823T135548Z
LAST-MODIFIED:20250823T140057Z
UID:3287-1755966600-1755970200@jolietdc.org
SUMMARY:Silver Rose: St Joseph Addison (English) Mass
DESCRIPTION:District 23: Assembly 209 Vigil Masses 4:30PM English; 6:30PM Spanish
URL:https://jolietdc.org/event/silver-rose-st-joseph-addison-23aug-430pm-mass/
LOCATION:St. Joseph Addison\, 330 E. Fullerton\, Addison\, IL\, 60101\, United States
CATEGORIES:3rd Degree,Programming
ATTACH;FMTTYPE=image/jpeg:https://jolietdc.org/wp-content/uploads/2025/08/silver-rose-devotion.jpg
END:VEVENT
BEGIN:VEVENT
DTSTART;TZID=America/Chicago:20250719T100000
DTEND;TZID=America/Chicago:20250719T170000
DTSTAMP:20260423T171704
CREATED:20241225T231230Z
LAST-MODIFIED:20250214T225900Z
UID:2058-1752919200-1752944400@jolietdc.org
SUMMARY:Council 4400 20th Annual Golf Outing Fundraiser
DESCRIPTION:Golf Outing fundraiser benefiting KofC Charities
URL:https://jolietdc.org/event/council-4400-20th-annual-golf-outing-fundraiser/
LOCATION:Sanctuary Golf Course\, 485 North Marley Road\, New Lenox\, IL\, 60451\, United States
CATEGORIES:Programming
ATTACH;FMTTYPE=image/png:https://jolietdc.org/wp-content/uploads/2024/11/3rddegree200x200.png
ORGANIZER;CN="4400":MAILTO:kc4400@yahoo.com
END:VEVENT
BEGIN:VEVENT
DTSTART;TZID=America/Chicago:20250504T100000
DTEND;TZID=America/Chicago:20250504T150000
DTSTAMP:20260423T171704
CREATED:20250317T133658Z
LAST-MODIFIED:20250317T133658Z
UID:2620-1746352800-1746370800@jolietdc.org
SUMMARY:St Joseph’s March
DESCRIPTION:What: \nAn inspiring\, traditional march with Catholic men walking together in honor of St. Joseph. Along the way\, we will recite the Litany of St. Joseph\, the Holy Rosary\, and sing hymns while carrying banners\, flags\, and sacramentals of our faith. \n\n\nWhy:\n\nHonor the Head of the Holy Family as the timeless model of true masculinity and a beacon of fortitude and strength\nBear public witness to the beauty and dignity of Catholic culture.\nSeek St. Joseph’s intercession as we take up spiritual arms of fasting\, prayer\, and the sacraments in defense of Holy Mother Church.\nOffer reparation for sins\, grow in holiness\, and inspire others to grow in their faith.\n\nWhen:  Sunday\, May 4\, 2025(rain or shine).\n\nHigh Mass from 10:00 – 11:30am at St. Joseph Catholic Church in Rockdale\, Illinois.\nMarch departs after mass with expected arrival at 1:30pm at St. Joseph Catholic Church in Joliet\, Illinois\nBrief reflection in the Church following the march\nFellowship & optional lunch available for purchase outside of the church from on-site vendors\nConcludes at 3:00pm \nWhere:  A 3.6-mile walk fromSt. Joseph Church in Rockdaleto St. Joseph’s Church in Joliet\nLearn More & Register:\nLogistics: This is a coordinated\, 3.1-mile walk organized as a single group marching together. Ensure you have arranged a ride to pick you up at St. Joseph’s Parish in Joliet after the procession. It has been suggested to coordinate with other families to park on both sites and ride share before and after the procession. \nWhat to Bring: Bring good walking shoes\, appropriate attire the day of (e.g. umbrella\, jacket\, etc)\, a Rosary and any necessities required for a 3.1 mile / 1 – 1.5 hour walk. Only water bottles will be provided during the procession. \nFood will be available for purchase at St. Joseph’s Church in Joliet after the procession. \nRegistration: There is a required $10 donation per gentleman or $20 for father and sons to defray the event cost. Any net proceeds will be donated towards an ultrasound machine for a local pro-life center. \nSubmit the form below and remit your donation to K of C 18037 by dropping an envelope marked with March for St. Josephinto the St. Joseph’s weekend collection or by sending your donation to: \nK of C 18037 – March with St. Joseph\nC/O St. Joseph’s Church\n1329 Belleview Ave\nRockdale\, IL 60436
URL:https://jolietdc.org/event/st-josephs-march/
LOCATION:St Joseph Patron of the Church Rockdale\, 1329 Belleview Ave\, Rockdale\, IL\, 60436\, United States
CATEGORIES:Programming
ATTACH;FMTTYPE=image/jpeg:https://jolietdc.org/wp-content/uploads/2025/03/IMG_7725.jpeg
ORGANIZER;CN="Council #18037":MAILTO:brianholuj@gmail.com
END:VEVENT
BEGIN:VEVENT
DTSTART;TZID=America/Chicago:20250504T070000
DTEND;TZID=America/Chicago:20250504T113000
DTSTAMP:20260423T171704
CREATED:20250307T204134Z
LAST-MODIFIED:20250307T204134Z
UID:2584-1746342000-1746358200@jolietdc.org
SUMMARY:Pancake Breakfast - Council 6090
DESCRIPTION:Council 6090 Pancake Breakfast.  Location: St. Pius X Lombard\, Cost – $10 in advance\, $12 at the door.  Time: 7:00a – 11:30a
URL:https://jolietdc.org/event/pancake-breakfast-council-6090/
LOCATION:St. Pius X Parish\, 114 South Elizabeth St\, Lombard\, IL\, 60148\, United States
CATEGORIES:Programming
ATTACH;FMTTYPE=image/png:https://jolietdc.org/wp-content/uploads/2024/11/3rddegree200x200.png
END:VEVENT
END:VCALENDAR