BEGIN:VCALENDAR
VERSION:2.0
PRODID:-//Joliet Fraternal Leaders - ECPv6.15.20//NONSGML v1.0//EN
CALSCALE:GREGORIAN
METHOD:PUBLISH
X-WR-CALNAME:Joliet Fraternal Leaders
X-ORIGINAL-URL:https://jolietdc.org
X-WR-CALDESC:Events for Joliet Fraternal Leaders
REFRESH-INTERVAL;VALUE=DURATION:PT1H
X-Robots-Tag:noindex
X-PUBLISHED-TTL:PT1H
BEGIN:VTIMEZONE
TZID:America/Chicago
BEGIN:DAYLIGHT
TZOFFSETFROM:-0600
TZOFFSETTO:-0500
TZNAME:CDT
DTSTART:20240310T080000
END:DAYLIGHT
BEGIN:STANDARD
TZOFFSETFROM:-0500
TZOFFSETTO:-0600
TZNAME:CST
DTSTART:20241103T070000
END:STANDARD
BEGIN:DAYLIGHT
TZOFFSETFROM:-0600
TZOFFSETTO:-0500
TZNAME:CDT
DTSTART:20250309T080000
END:DAYLIGHT
BEGIN:STANDARD
TZOFFSETFROM:-0500
TZOFFSETTO:-0600
TZNAME:CST
DTSTART:20251102T070000
END:STANDARD
BEGIN:DAYLIGHT
TZOFFSETFROM:-0600
TZOFFSETTO:-0500
TZNAME:CDT
DTSTART:20260308T080000
END:DAYLIGHT
BEGIN:STANDARD
TZOFFSETFROM:-0500
TZOFFSETTO:-0600
TZNAME:CST
DTSTART:20261101T070000
END:STANDARD
END:VTIMEZONE
BEGIN:VEVENT
DTSTART;TZID=America/Chicago:20250411T183000
DTEND;TZID=America/Chicago:20250411T220000
DTSTAMP:20260424T114629
CREATED:20250403T182333Z
LAST-MODIFIED:20250403T182333Z
UID:2711-1744396200-1744408800@jolietdc.org
SUMMARY:Fr Rocky - Family Rosary Across America
DESCRIPTION:On Friday April 11th\, we are honored to host Father Rocky and Relevant Radio at our church as they take the Family Rosary Across America (FRAA) on the road. This event will be open to all parishoners and we encourage you to bring your families and participate. Since November of 2000\, Relevant Radio has been bringing Christ to the world through the media\, providing informative\, entertaining\, and interactive programming 24 hours per day\, 7 days per week. Rev. Francis J. Hoffman (Fr. Rocky) has been serving as CEO of Relevant Radio® since 2010 and Chairman since 2021. Ordained as a priest for Opus Dei in 1992\, Fr. Rocky is a noted author and speaker and has appeared on the major radio and television networks. He is the author of six books and he is a Knight of Columbus! Following the rosary\, Father Rocky will also be sharing his thoughts on Evangelization in America Today. Many of us have concerns that our children are not actively practicing their faith. Only 20% of Gen Z are attending church on a regular basis. What can we do to reverse this trend? At the end of the evening\, we will have a Reception in the St. Anne room to allow all of us to welcome our guests from Relevant Radio. 7:00 pm – Relevant Radio will broadcast Family Rosary Across America in the church at St. Raphael 7:30 pm – Father Rocky from Relevant Radio will present Evangelization in America Today 8:15 pm – Reception with our guests from Relevant Radio
URL:https://jolietdc.org/event/fr-rocky-family-rosary-across-america/
LOCATION:St Raphael Church\, 1215 Modaff\, Naperville\, IL\, 60565\, United States
CATEGORIES:Programming
ATTACH;FMTTYPE=image/png:https://jolietdc.org/wp-content/uploads/2024/11/3rddegree200x200.png
END:VEVENT
BEGIN:VEVENT
DTSTART;TZID=America/Chicago:20250411T170000
DTEND;TZID=America/Chicago:20250411T193000
DTSTAMP:20260424T114629
CREATED:20250220T002918Z
LAST-MODIFIED:20250220T002918Z
UID:2482-1744390800-1744399800@jolietdc.org
SUMMARY:Christ the King of Lombard Council 11027 APR 11 2025
DESCRIPTION:Come and enjoy our Lenten Fish Fries on Friday\, March 7\, March 28 and April 11.  Dinners are served each night at the Christ the King\, Lombard Parish Life Center from 5:00 – 7:30 PM.  We are located at 1501 S. Main St. in Lombard.  There are dine in or carry-out options and we accept cash\, checks or credit cards.  This year’s proceeds are being used to benefit Christ the King Parish and Waterleaf Women’s Center in Aurora. Avoid preparing dinner and bring family and friends to this great social event.
URL:https://jolietdc.org/event/christ-the-king-of-lombard-council-11027-apr-11-2025/
LOCATION:Christ the King- Lombard\, 1501 S. Main St.\, Lombard\, IL\, 60148\, United States
CATEGORIES:Programming
ATTACH;FMTTYPE=image/jpeg:https://jolietdc.org/wp-content/uploads/2025/02/Fish-Fry-2025-Poster_1.jpg
END:VEVENT
BEGIN:VEVENT
DTSTART;TZID=America/Chicago:20250408T183000
DTEND;TZID=America/Chicago:20250408T190000
DTSTAMP:20260424T114629
CREATED:20250305T041928Z
LAST-MODIFIED:20250305T042104Z
UID:2573-1744137000-1744138800@jolietdc.org
SUMMARY:Exemplification of C.U.F. - Council 1599 LIVE
DESCRIPTION:Council 1599 in Lemont will be hosting a LIVE Exemplification of Charity\, Unity\, and Fraternity at the Lemont VFW Hall on April 8th starting at 6:30pm.
URL:https://jolietdc.org/event/exemplification-of-c-u-f-council-1599-live/
LOCATION:VFW Post 5819\, 15780 New Ave\,\, Lemont\, IL\, 60439
CATEGORIES:Membership
ATTACH;FMTTYPE=image/png:https://jolietdc.org/wp-content/uploads/2024/11/3rddegree200x200-1.png
END:VEVENT
BEGIN:VEVENT
DTSTART;TZID=America/Chicago:20250329T160000
DTEND;TZID=America/Chicago:20250330T130000
DTSTAMP:20260424T114629
CREATED:20250215T174921Z
LAST-MODIFIED:20250215T174921Z
UID:2432-1743264000-1743339600@jolietdc.org
SUMMARY:Christ the King MAR 2025 Delta Church Drive
DESCRIPTION:Christ the King parish will hold a church drive on March 29-30 at all four masses.
URL:https://jolietdc.org/event/christ-the-king-mar-2025-delta-church-drive/
LOCATION:Christ the King- Lombard\, 1501 S. Main St.\, Lombard\, IL\, 60148\, United States
CATEGORIES:Delta Church Drives,Membership
ATTACH;FMTTYPE=image/png:https://jolietdc.org/wp-content/uploads/2024/11/3rddegree200x200.png
ORGANIZER;CN="Council 11027":MAILTO:rclish@sbcglobal.net
END:VEVENT
BEGIN:VEVENT
DTSTART;TZID=America/Chicago:20250329T070000
DTEND;TZID=America/Chicago:20250329T140000
DTSTAMP:20260424T114629
CREATED:20250317T133730Z
LAST-MODIFIED:20250317T133730Z
UID:2630-1743231600-1743256800@jolietdc.org
SUMMARY:Courage Under Fire Men's Conference
DESCRIPTION:BECOMING HEROIC MEN OF CHRIST\nJoin hundreds of men for the annual men’s conference. \nBenet Academy | Lisle\, Illinois \nRegistration $25 includes beverages\, snacks and lunch. \nREGISTRATION NOW OPEN \n7:00–Registration\n7:45–Mass with Bishop Hicks\n9:15–Conference Commences\n12:30–Lunch & Fellowship\n1:00–Project364\n2:00–Conclude \nFeaturing Justin Reyes\, Director of Catechesis and Evangelization\, Diocese of Joliet \nBishop Ronald Hicks\, Bishop of Diocese of Joliet \nFather Ryan Adorjan\, Parochial Vicar at Visitation Catholic Church in Elmhurst \nBart Schuchts\, Founder of Church on Fire \n 
URL:https://jolietdc.org/event/courage-under-fire-mens-conference/
LOCATION:Benet Academy\, 2200 Maple Ave\, Lisle\, IL\, 60532\, United States
CATEGORIES:Programming
ATTACH;FMTTYPE=image/png:https://jolietdc.org/wp-content/uploads/2025/03/Men-of-Christ-conference.png
ORGANIZER;CN="Men of Christ Joliet":MAILTO:rdusatko@comcast.net
END:VEVENT
BEGIN:VEVENT
DTSTART;VALUE=DATE:20250329
DTEND;VALUE=DATE:20250331
DTSTAMP:20260424T114629
CREATED:20250215T203032Z
LAST-MODIFIED:20250215T203032Z
UID:2444-1743206400-1743379199@jolietdc.org
SUMMARY:Delta Drive Christ The King
DESCRIPTION:membership drive
URL:https://jolietdc.org/event/delta-drive-christ-the-king/
LOCATION:Christ the King- Lombard\, 1501 S. Main St.\, Lombard\, IL\, 60148\, United States
CATEGORIES:Delta Church Drives,Membership
ATTACH;FMTTYPE=image/png:https://jolietdc.org/wp-content/uploads/2024/11/3rddegree200x200.png
ORGANIZER;CN="Council 11027":MAILTO:rclish@sbcglobal.net
END:VEVENT
BEGIN:VEVENT
DTSTART;TZID=America/Chicago:20250328T170000
DTEND;TZID=America/Chicago:20250328T193000
DTSTAMP:20260424T114629
CREATED:20250220T002734Z
LAST-MODIFIED:20250220T003116Z
UID:2480-1743181200-1743190200@jolietdc.org
SUMMARY:Fish Fry Christ the King Council 11027 Lombard MAR 28 2025
DESCRIPTION:Come and enjoy our Lenten Fish Fries on Friday\, March 7\, March 28 and April 11.  Dinners are served each night at the Christ the King\, Lombard Parish Life Center from 5:00 – 7:30 PM.  We are located at 1501 S. Main St. in Lombard.  There are dine in or carry-out options and we accept cash\, checks or credit cards.  This year’s proceeds are being used to benefit Christ the King Parish and Waterleaf Women’s Center in Aurora. Avoid preparing dinner and bring family and friends to this great social event.
URL:https://jolietdc.org/event/fish-fry-christ-the-king-council-11027-lombard-mar-28-2025/
LOCATION:Christ the King- Lombard\, 1501 S. Main St.\, Lombard\, IL\, 60148\, United States
CATEGORIES:Programming
ATTACH;FMTTYPE=image/jpeg:https://jolietdc.org/wp-content/uploads/2025/02/Fish-Fry-2025-Poster_1.jpg
END:VEVENT
BEGIN:VEVENT
DTSTART;TZID=America/Chicago:20250321T110000
DTEND;TZID=America/Chicago:20250321T200000
DTSTAMP:20260424T114629
CREATED:20250318T195456Z
LAST-MODIFIED:20250318T195456Z
UID:2647-1742554800-1742587200@jolietdc.org
SUMMARY:Knights of Columbus 4400 Fish Fry
DESCRIPTION:Friday 11AM-8PM \nSaturday 4PM-8PM \nServing Cod\, Walleye\, Shrimp\, Stuffed Shrimp and Chicken.
URL:https://jolietdc.org/event/knights-of-columbus-4400-fish-fry/
LOCATION:Knights of Columbus 4400\, 1813 East Cass Street\, Joliet\, IL\, 60432
CATEGORIES:Programming
ATTACH;FMTTYPE=image/jpeg:https://jolietdc.org/wp-content/uploads/2025/02/fish-1.jpg
ORGANIZER;CN="4400":MAILTO:kc4400@yahoo.com
END:VEVENT
BEGIN:VEVENT
DTSTART;TZID=America/Chicago:20250319T190000
DTEND;TZID=America/Chicago:20250319T200000
DTSTAMP:20260424T114629
CREATED:20250222T211904Z
LAST-MODIFIED:20250222T211904Z
UID:2504-1742410800-1742414400@jolietdc.org
SUMMARY:Holy Trinity Council 4400 Membership Drive
DESCRIPTION:Council 4400 membership open house.
URL:https://jolietdc.org/event/holy-trinity-council-4400-membership-drive/
LOCATION:Knights of Columbus 4400\, 1813 East Cass Street\, Joliet\, IL\, 60432
CATEGORIES:Membership
ATTACH;FMTTYPE=image/png:https://jolietdc.org/wp-content/uploads/2025/02/2025-Membership-Open-House.png
ORGANIZER;CN="4400":MAILTO:kc4400@yahoo.com
END:VEVENT
BEGIN:VEVENT
DTSTART;TZID=America/Chicago:20250315T180000
DTEND;TZID=America/Chicago:20250315T220000
DTSTAMP:20260424T114629
CREATED:20250223T184917Z
LAST-MODIFIED:20250223T184942Z
UID:2538-1742061600-1742076000@jolietdc.org
SUMMARY:6521 St Patrick's Dinner Dance
DESCRIPTION:Please come out and join us for the best corn beef and cabbage dinner in Bolingbrook. The Bolingbrook Lions Club and Knights of Columbus Council 6521 are pleased to bring this event to you. \nTake Out Dinners available from 4:30-6pm ($20 each) \nDinner served at 7pm ($30 each) \nMenu includes corn beef\, cabbage\, potatoes\, carrots\, and rye bread. Doors open at 6pm with a DJ and cash bar available
URL:https://jolietdc.org/event/6521-st-patricks-dinner-dance/
LOCATION:Levy Center\, 251 Canterbury Ln\, Bolingbrook\, IL\, 60440\, United States
CATEGORIES:Programming
ATTACH;FMTTYPE=image/png:https://jolietdc.org/wp-content/uploads/2025/02/St-Patricks-Dinner-Dance-2025.png
ORGANIZER;CN="Council 6521":MAILTO:kofcfatherfrank@gmail.com
END:VEVENT
BEGIN:VEVENT
DTSTART;TZID=America/Chicago:20250309T080000
DTEND;TZID=America/Chicago:20250309T123000
DTSTAMP:20260424T114629
CREATED:20250221T231740Z
LAST-MODIFIED:20250221T232552Z
UID:2501-1741507200-1741523400@jolietdc.org
SUMMARY:St Francis of Assisi Council 11092 Membership Drive
DESCRIPTION:Donut Sunday and membership drive for all Masses.
URL:https://jolietdc.org/event/st-francis-of-assisi-council-11092-membership-drive-2/
LOCATION:St. Francis of Assisi Bolingbrook\, 1501 W Boughton Rd\, Bolingbrook\, IL\, 60490\, United States
CATEGORIES:Membership
END:VEVENT
BEGIN:VEVENT
DTSTART;TZID=America/Chicago:20250309T073000
DTEND;TZID=America/Chicago:20250309T123000
DTSTAMP:20260424T114629
CREATED:20250214T223843Z
LAST-MODIFIED:20250214T223843Z
UID:2398-1741505400-1741523400@jolietdc.org
SUMMARY:Pancake Breakfast
DESCRIPTION:All you can eat pancakes\, sausage\, & Beverage! $8.00 PER PERSON\, $6.00 (5-12 years) $20.00 Family
URL:https://jolietdc.org/event/pancake-breakfast/
LOCATION:St. Joseph Catholic Church\, 4801 Main St.\, Downers Grove\, IL\, 60515\, United States
CATEGORIES:Programming
ATTACH;FMTTYPE=image/jpeg:https://jolietdc.org/wp-content/uploads/2025/02/Pancake-church-ad-325.jpg
ORGANIZER;CN="Bishop James E Fitzgerald #14649":MAILTO:varanda@comcast.net
END:VEVENT
BEGIN:VEVENT
DTSTART;TZID=America/Chicago:20250309T070000
DTEND;TZID=America/Chicago:20250309T140000
DTSTAMP:20260424T114629
CREATED:20250214T225558Z
LAST-MODIFIED:20250214T225558Z
UID:2193-1741503600-1741528800@jolietdc.org
SUMMARY:Council 6521 Membership Drive
DESCRIPTION:Please join us for Day 2 of our Spring Church Membership Drive. We will be at the church greeting parishioners and potential new knights. We will have coffee and donuts during the day also.
URL:https://jolietdc.org/event/council-6521-membership-drive-2/
LOCATION:St. Dominic Catholic Church\, 440 E Briarcliff\, Bolingbrook\, IL\, 60440\, United States
CATEGORIES:Delta Church Drives,Membership
ATTACH;FMTTYPE=image/png:https://jolietdc.org/wp-content/uploads/2024/11/3rddegree200x200.png
ORGANIZER;CN="Council 6521":MAILTO:kofcfatherfrank@gmail.com
END:VEVENT
BEGIN:VEVENT
DTSTART;TZID=America/Chicago:20250308T170000
DTEND;TZID=America/Chicago:20250308T193000
DTSTAMP:20260424T114629
CREATED:20250118T214458Z
LAST-MODIFIED:20250214T225820Z
UID:2152-1741453200-1741462200@jolietdc.org
SUMMARY:Council 6521 Membership Drive
DESCRIPTION:Please join us for our Spring Church DRIVE. We are looking forward to seeing you
URL:https://jolietdc.org/event/council-6521-membership-drive/
LOCATION:St. Dominic Catholic Church\, 440 E Briarcliff\, Bolingbrook\, IL\, 60440\, United States
CATEGORIES:Delta Church Drives
ATTACH;FMTTYPE=image/png:https://jolietdc.org/wp-content/uploads/2024/11/3rddegree200x200.png
ORGANIZER;CN="Council 6521":MAILTO:kofcfatherfrank@gmail.com
END:VEVENT
BEGIN:VEVENT
DTSTART;TZID=America/Chicago:20250308T170000
DTEND;TZID=America/Chicago:20250308T180000
DTSTAMP:20260424T114629
CREATED:20250221T231629Z
LAST-MODIFIED:20250221T231629Z
UID:2496-1741453200-1741456800@jolietdc.org
SUMMARY:St Francis of Assisi Council 11092 Membership Drive
DESCRIPTION:Donut weekend and membership drive after all masses
URL:https://jolietdc.org/event/st-francis-of-assisi-council-11092-membership-drive/
LOCATION:St. Francis of Assisi Bolingbrook\, 1501 W Boughton Rd\, Bolingbrook\, IL\, 60490\, United States
CATEGORIES:Membership
ATTACH;FMTTYPE=image/png:https://jolietdc.org/wp-content/uploads/2024/11/3rddegree200x200.png
END:VEVENT
BEGIN:VEVENT
DTSTART;TZID=America/Chicago:20250308T080000
DTEND;TZID=America/Chicago:20250309T170000
DTSTAMP:20260424T114629
CREATED:20250214T225318Z
LAST-MODIFIED:20250214T225431Z
UID:2418-1741420800-1741539600@jolietdc.org
SUMMARY:Elmhurst Knights of Columbus Membership Drive
DESCRIPTION:The Father McDonald Council #1911 in Elmhurst\, IL is hosting three church membership drives in March.   Any support is welcome. \nThe dates of our Church Membership Drives are: \n\nImmaculate Conception in Elmhurst on March 1 & 2\nVisitation in Elmhurst  March 8 & 9\nMary Queen of Heaven in Elmhurst March 8 & 9\n\nIf you would like to help\, please sign up below. \nhttps://signup.zone/b95EvyswfiiX63wm8 \nAny questions regarding this membership drive\, please reach out to Jim Bindon at jimbindon@att.net \nVivat Jesus
URL:https://jolietdc.org/event/elmhurst-knights-of-columbus-membership-drive-3/
LOCATION:Mary Queen of Heaven Elmhurst\, 430 N West Avenue\, Elmhurst\, IL\, 60126\, United States
CATEGORIES:Delta Church Drives,Membership
ATTACH;FMTTYPE=image/png:https://jolietdc.org/wp-content/uploads/2024/11/3rddegree200x200.png
END:VEVENT
BEGIN:VEVENT
DTSTART;TZID=America/Chicago:20250308T080000
DTEND;TZID=America/Chicago:20250309T170000
DTSTAMP:20260424T114629
CREATED:20250214T225133Z
LAST-MODIFIED:20250214T225133Z
UID:2415-1741420800-1741539600@jolietdc.org
SUMMARY:Elmhurst Knights of Columbus Membership Drive
DESCRIPTION:The Father McDonald Council #1911 in Elmhurst\, IL is hosting three church membership drives in March.   Any support is welcome. \nThe dates of our Church Membership Drives are: \n\nImmaculate Conception in Elmhurst on March 1 & 2\nVisitation in Elmhurst  March 8 & 9\nMary Queen of Heaven in Elmhurst March 8 & 9\n\nIf you would like to help\, please sign up below. \nhttps://signup.zone/b95EvyswfiiX63wm8 \nAny questions regarding this membership drive\, please reach out to Jim Bindon at jimbindon@att.net \nVivat Jesus
URL:https://jolietdc.org/event/elmhurst-knights-of-columbus-membership-drive-2/
LOCATION:Visitation Church Elmhurst\, 779 S York\, Elmhurst\, IL\, 60126\, United States
CATEGORIES:Delta Church Drives,Membership
ATTACH;FMTTYPE=image/png:https://jolietdc.org/wp-content/uploads/2024/11/3rddegree200x200.png
END:VEVENT
BEGIN:VEVENT
DTSTART;TZID=America/Chicago:20250307T170000
DTEND;TZID=America/Chicago:20250307T193000
DTSTAMP:20260424T114629
CREATED:20250220T002513Z
LAST-MODIFIED:20250220T003011Z
UID:2474-1741366800-1741375800@jolietdc.org
SUMMARY:Fish Fry Christ the King of Lombard Council 11027 MAR 7 2025
DESCRIPTION:Come and enjoy our Lenten Fish Fries on Friday\, March 7\, March 28 and April 11.  Dinners are served each night at the Christ the King\, Lombard Parish Life Center from 5:00 – 7:30 PM.  We are located at 1501 S. Main St. in Lombard.  There are dine in or carry-out options and we accept cash\, checks or credit cards.  This year’s proceeds are being used to benefit Christ the King Parish and Waterleaf Women’s Center in Aurora. \nAvoid preparing dinner and bring family and friends to this great social event.
URL:https://jolietdc.org/event/fish-fry-christ-the-king-of-lombard-council-11027-mar-7-2025/
LOCATION:Christ the King- Lombard\, 1501 S. Main St.\, Lombard\, IL\, 60148\, United States
CATEGORIES:Programming
ATTACH;FMTTYPE=image/jpeg:https://jolietdc.org/wp-content/uploads/2025/02/Fish-Fry-2025-Poster_1.jpg
ORGANIZER;CN="Council 11027":MAILTO:rclish@sbcglobal.net
END:VEVENT
BEGIN:VEVENT
DTSTART;TZID=America/Chicago:20250307T110000
DTEND;TZID=America/Chicago:20250307T200000
DTSTAMP:20260424T114629
CREATED:20250223T144326Z
LAST-MODIFIED:20250223T144326Z
UID:2526-1741345200-1741377600@jolietdc.org
SUMMARY:Holy Trinity Council 4400 Fish Fry
DESCRIPTION:Holy Trinity Council 4400 Fish Fry – 1813 East Cass Street in Joliet.  Serving Cod\, Walleye\, Shrimp\, Stuffed Shrimp and Chicken.
URL:https://jolietdc.org/event/holy-trinity-council-4400-fish-fry/
LOCATION:Knights of Columbus 4400\, 1813 East Cass Street\, Joliet\, IL\, 60432
CATEGORIES:Programming
ATTACH;FMTTYPE=image/jpeg:https://jolietdc.org/wp-content/uploads/2025/02/fish-1.jpg
ORGANIZER;CN="4400":MAILTO:kc4400@yahoo.com
END:VEVENT
BEGIN:VEVENT
DTSTART;TZID=America/Chicago:20250305T110000
DTEND;TZID=America/Chicago:20250305T200000
DTSTAMP:20260424T114629
CREATED:20250222T195346Z
LAST-MODIFIED:20250222T211939Z
UID:2513-1741172400-1741204800@jolietdc.org
SUMMARY:Holy Trinity Council 4400 Ash Wednesday Fish Fry
DESCRIPTION:Holy Trinity Council 4400 – Joliet’s East Side Knights award winning fish fry.  Cod\, Walleye\, Shrimp\, Stuffed Shrimp and Chicken. \n1813 East Cass Street in Joliet.
URL:https://jolietdc.org/event/holy-trinity-council-4400-ash-wednesday-fish-fry/
LOCATION:Knights of Columbus 4400\, 1813 East Cass Street\, Joliet\, IL\, 60432
CATEGORIES:Programming
ATTACH;FMTTYPE=image/jpeg:https://jolietdc.org/wp-content/uploads/2025/02/fish.jpg
ORGANIZER;CN="4400":MAILTO:kc4400@yahoo.com
END:VEVENT
BEGIN:VEVENT
DTSTART;TZID=America/Chicago:20250301T160000
DTEND;TZID=America/Chicago:20250302T143000
DTSTAMP:20260424T114629
CREATED:20250221T233051Z
LAST-MODIFIED:20250221T233051Z
UID:2492-1740844800-1740925800@jolietdc.org
SUMMARY:St Isidore Membership Drive
DESCRIPTION:After all masses on March 1 and 2 there will be a membership drive.
URL:https://jolietdc.org/event/st-isidore-membership-drive/
LOCATION:St. Isadore Bloomingdale\, 427 W Army Trail Rd\, Bloomingdale\, IL\, 60108\, United States
CATEGORIES:Membership
ATTACH;FMTTYPE=image/png:https://jolietdc.org/wp-content/uploads/2024/11/3rddegree200x200.png
END:VEVENT
BEGIN:VEVENT
DTSTART;TZID=America/Chicago:20250301T080000
DTEND;TZID=America/Chicago:20250302T170000
DTSTAMP:20260424T114629
CREATED:20250214T224827Z
LAST-MODIFIED:20250214T224827Z
UID:2253-1740816000-1740934800@jolietdc.org
SUMMARY:Elmhurst Knights of Columbus Membership Drive
DESCRIPTION:The Father McDonald Council #1911 in Elmhurst\, IL is hosting three church membership drives in March.   Any support is welcome. \nThe dates of our Church Membership Drives are: \n\nImmaculate Conception in Elmhurst on March 1 & 2\nVisitation in Elmhurst  March 8 & 9\nMary Queen of Heaven in Elmhurst March 8 & 9\n\nIf you would like to help\, please sign up below. \nhttps://signup.zone/b95EvyswfiiX63wm8 \nAny questions regarding this membership drive\, please reach out to Jim Bindon at jimbindon@att.net \nVivat Jesus
URL:https://jolietdc.org/event/elmhurst-knights-of-columbus-membership-drive/
LOCATION:Immaculate Conception Elmhurst\, 134 Arthur\, Elmhurst\, IL\, 60126\, United States
CATEGORIES:Delta Church Drives,Membership
ATTACH;FMTTYPE=image/png:https://jolietdc.org/wp-content/uploads/2024/11/3rddegree200x200.png
ORGANIZER;CN="Council #1911":MAILTO:jimbindon@att.net
END:VEVENT
BEGIN:VEVENT
DTSTART;TZID=America/Chicago:20250301T070000
DTEND;TZID=America/Chicago:20250301T140000
DTSTAMP:20260424T114629
CREATED:20241206T130816Z
LAST-MODIFIED:20250214T231409Z
UID:1950-1740812400-1740837600@jolietdc.org
SUMMARY:4th Degree Exemplification (125th Anniversary)
DESCRIPTION:The Official packet for this event is below \nhttps://uknight.org/2020/P4DPortal/Materials/pd13_DHA_Exemplification%20Packet%20-%20March%201\,%202025.pdf \nDoors open at 7am see agenda in the packet for official timeline \n 
URL:https://jolietdc.org/event/4th-degree-exemplification-125th-anniversary/
LOCATION:Jacob Henry Mansion\, 20 S. Eastern\, Joliet\, IL\, 60433\, United States
CATEGORIES:4th Degree
ATTACH;FMTTYPE=image/png:https://jolietdc.org/wp-content/uploads/2024/11/KC-StatePin-2024-Eucharist-FINAL-png.png
END:VEVENT
BEGIN:VEVENT
DTSTART;TZID=America/Chicago:20250224T090000
DTEND;TZID=America/Chicago:20250224T123000
DTSTAMP:20260424T114629
CREATED:20250214T224319Z
LAST-MODIFIED:20250214T224319Z
UID:2319-1740387600-1740400200@jolietdc.org
SUMMARY:Donut Sunday / Membership Drive
DESCRIPTION:God’s Divine Council #14463 is hosting Donut Sunday after the 8:00 am and 10:30 Masses.  Stop by the parish center & talk to the members to learn about our council and the good things we do.  Find out ” Why You should become a Knight”.
URL:https://jolietdc.org/event/donut-sunday-membership-drive/
LOCATION:St. Patrick Parish\, 206 Walnut\, Yorkville\, IL\, 60560\, United States
CATEGORIES:Membership
ATTACH;FMTTYPE=image/jpeg:https://jolietdc.org/wp-content/uploads/2025/02/why-you-should.jpg
ORGANIZER;CN="Council 14463":MAILTO:jez5635@comcast.net
END:VEVENT
BEGIN:VEVENT
DTSTART;TZID=America/Chicago:20250222T170000
DTEND;TZID=America/Chicago:20250222T220000
DTSTAMP:20260424T114629
CREATED:20250214T230921Z
LAST-MODIFIED:20250214T231106Z
UID:2421-1740243600-1740261600@jolietdc.org
SUMMARY:11092 Chicago Wolves Outing
DESCRIPTION:St. Francis of Assisi Knights of Columbus are sponsoring a Chicago Wolves Outing Saturday\, February 22\, 2025\nTickets: $30.00 each \nWe will board the bus in the St. Francis East Parking Lot at 5:00 PM. The game starts at 7:00 pm at the Allstate Arena. \nTickets are available via the following website: \nhttps://kofc11092.org/event/chicago-wolves-outing/
URL:https://jolietdc.org/event/11092-chicago-wolves-outing/
LOCATION:St. Francis of Assisi Bolingbrook\, 1501 W Boughton Rd\, Bolingbrook\, IL\, 60490\, United States
CATEGORIES:3rd Degree
ATTACH;FMTTYPE=image/png:https://jolietdc.org/wp-content/uploads/2025/02/Wolves-3.png
END:VEVENT
BEGIN:VEVENT
DTSTART;TZID=America/Chicago:20250220T110000
DTEND;TZID=America/Chicago:20250220T210000
DTSTAMP:20260424T114629
CREATED:20250214T224238Z
LAST-MODIFIED:20250214T224238Z
UID:2356-1740049200-1740085200@jolietdc.org
SUMMARY:Dine to Donate for Waterleaf
DESCRIPTION:Like Mexican food? 20% of your bill at On the Border restaurant at 1915 Glacier Park\, Ave (in Naperville off Rte 59) on Thursday 2/20/25 will be donated to Waterleaf. Sponsored by ST Raphael Council 14171
URL:https://jolietdc.org/event/dine-to-donate-for-waterleaf/
LOCATION:On The Border Naperville\, 1915 Glacier Park Ave.\, Naperville\, IL\, 60540\, United States
CATEGORIES:Programming
ATTACH;FMTTYPE=image/png:https://jolietdc.org/wp-content/uploads/2024/11/3rddegree200x200.png
END:VEVENT
BEGIN:VEVENT
DTSTART;TZID=America/Chicago:20250216T130000
DTEND;TZID=America/Chicago:20250216T170000
DTSTAMP:20260424T114629
CREATED:20241203T160124Z
LAST-MODIFIED:20241203T160124Z
UID:1926-1739710800-1739725200@jolietdc.org
SUMMARY:17th Annual Fur\, Fins and Feathers Sportsman's Game Dinner Fundraiser
DESCRIPTION:Holy Trinity Council 4400 17th Annual Wild Game Dinner Fundraiser.  $20 per person for food – dishes include venison\, chicken\, fish\, etc.  Full cash bar available.  Raffle prizes available. \nEvent is 1PM-5PM and food is served about 2PM. \nPlease RSVP to kc4400@yahoo.com to reserve a spot\, space is available based on the amount of game dishes available.
URL:https://jolietdc.org/event/17th-annual-fur-fins-and-feathers-sportsmans-game-dinner-fundraiser/
LOCATION:Knights of Columbus 4400\, 1813 East Cass Street\, Joliet\, IL\, 60432
CATEGORIES:Programming
ATTACH;FMTTYPE=image/jpeg:https://jolietdc.org/wp-content/uploads/2024/12/GAME-DINNER-2.jpg
ORGANIZER;CN="4400":MAILTO:kc4400@yahoo.com
END:VEVENT
BEGIN:VEVENT
DTSTART;TZID=America/Chicago:20250216T090000
DTEND;TZID=America/Chicago:20250216T120000
DTSTAMP:20260424T114629
CREATED:20260113T194536Z
LAST-MODIFIED:20260113T194536Z
UID:2185-1739696400-1739707200@jolietdc.org
SUMMARY:Council 5918 Membership Drive
DESCRIPTION:Membership Drive for Council #5918 at Christ The Servant Parish in Woodridge\, IL
URL:https://jolietdc.org/event/council-5918-membership-drive-2/
CATEGORIES:Membership
ATTACH;FMTTYPE=image/png:https://jolietdc.org/wp-content/uploads/2024/11/3rddegree200x200.png
END:VEVENT
BEGIN:VEVENT
DTSTART;TZID=America/Chicago:20250216T083000
DTEND;TZID=America/Chicago:20250216T120000
DTSTAMP:20260424T114629
CREATED:20250214T225651Z
LAST-MODIFIED:20250214T225651Z
UID:2189-1739694600-1739707200@jolietdc.org
SUMMARY:Council #5918 Membership Drive
DESCRIPTION:Membership drive at Christ the Servant Parish in Woodridge.
URL:https://jolietdc.org/event/council-5918-membership-drive/
CATEGORIES:Delta Church Drives,Membership
ATTACH;FMTTYPE=image/png:https://jolietdc.org/wp-content/uploads/2024/11/3rddegree200x200.png
END:VEVENT
BEGIN:VEVENT
DTSTART;TZID=America/Chicago:20250215T160000
DTEND;TZID=America/Chicago:20250215T173000
DTSTAMP:20260424T114629
CREATED:20250119T011034Z
LAST-MODIFIED:20250214T225724Z
UID:2171-1739635200-1739640600@jolietdc.org
SUMMARY:Council 5918 Membership Drive
DESCRIPTION:Membership Drive for Council #5918 at Christ the Servant Parish in Woodridge\, Il
URL:https://jolietdc.org/event/membership-drive/
LOCATION:Christ the Servant\, 8700 Havens Dr\, Woodridge\, IL\, 60517\, United States
CATEGORIES:Delta Church Drives,Membership
ATTACH;FMTTYPE=image/png:https://jolietdc.org/wp-content/uploads/2024/11/3rddegree200x200.png
END:VEVENT
END:VCALENDAR