BEGIN:VCALENDAR
VERSION:2.0
PRODID:-//Joliet Fraternal Leaders - ECPv6.15.20//NONSGML v1.0//EN
CALSCALE:GREGORIAN
METHOD:PUBLISH
X-WR-CALNAME:Joliet Fraternal Leaders
X-ORIGINAL-URL:https://jolietdc.org
X-WR-CALDESC:Events for Joliet Fraternal Leaders
REFRESH-INTERVAL;VALUE=DURATION:PT1H
X-Robots-Tag:noindex
X-PUBLISHED-TTL:PT1H
BEGIN:VTIMEZONE
TZID:America/Chicago
BEGIN:DAYLIGHT
TZOFFSETFROM:-0600
TZOFFSETTO:-0500
TZNAME:CDT
DTSTART:20240310T080000
END:DAYLIGHT
BEGIN:STANDARD
TZOFFSETFROM:-0500
TZOFFSETTO:-0600
TZNAME:CST
DTSTART:20241103T070000
END:STANDARD
BEGIN:DAYLIGHT
TZOFFSETFROM:-0600
TZOFFSETTO:-0500
TZNAME:CDT
DTSTART:20250309T080000
END:DAYLIGHT
BEGIN:STANDARD
TZOFFSETFROM:-0500
TZOFFSETTO:-0600
TZNAME:CST
DTSTART:20251102T070000
END:STANDARD
BEGIN:DAYLIGHT
TZOFFSETFROM:-0600
TZOFFSETTO:-0500
TZNAME:CDT
DTSTART:20260308T080000
END:DAYLIGHT
BEGIN:STANDARD
TZOFFSETFROM:-0500
TZOFFSETTO:-0600
TZNAME:CST
DTSTART:20261101T070000
END:STANDARD
BEGIN:DAYLIGHT
TZOFFSETFROM:-0600
TZOFFSETTO:-0500
TZNAME:CDT
DTSTART:20270314T080000
END:DAYLIGHT
BEGIN:STANDARD
TZOFFSETFROM:-0500
TZOFFSETTO:-0600
TZNAME:CST
DTSTART:20271107T070000
END:STANDARD
END:VTIMEZONE
BEGIN:VEVENT
DTSTART;TZID=America/Chicago:20260503T080000
DTEND;TZID=America/Chicago:20260503T130000
DTSTAMP:20260423T191311
CREATED:20260113T194725Z
LAST-MODIFIED:20260113T194829Z
UID:3734-1777795200-1777813200@jolietdc.org
SUMMARY:St. Anne #16720 Membership Drive
DESCRIPTION:Church Drive after all Masses. All are welcome to attend.
URL:https://jolietdc.org/event/st-anne-16720-membership-drive-5/
LOCATION:St. Anne\, 511 Boulder Hill Pass\, Oswego\, IL\, 60543\, United States
CATEGORIES:Membership
ATTACH;FMTTYPE=image/jpeg:https://jolietdc.org/wp-content/uploads/2025/09/Logo_Whte_BG-3.jpg
ORGANIZER;CN="Council #16720":MAILTO:texasllanes8@gmail.com
END:VEVENT
BEGIN:VEVENT
DTSTART;VALUE=DATE:20260502
DTEND;VALUE=DATE:20260504
DTSTAMP:20260423T191311
CREATED:20250901T192349Z
LAST-MODIFIED:20260113T194829Z
UID:3634-1777680000-1777852799@jolietdc.org
SUMMARY:Special Olympics Region C Spring Games 2026
DESCRIPTION:Region C Spring Games\nThis event will take place at Marmion Academy (1000 Butterfield Road\, Aurora) on Saturday\, May 3 and Sunday\, May 4.\n\nCompetition Information: \nFor Competition Schedules\, Maps and Rules\, visit HERE. \nView the Event Program HERE \n  \n  \nParking: \nParking is available on Marmion’s campus on a first come first serve basis. Additional parking will be available at Abbey Farms. A free shuttle service will operate continuously from Marmion to and from Abbey Farms. View Map HERE \n  \nSouvenirs: \nA wide array of souvenirs will be available for sale in the Fieldhouse. \nOpening Ceremonies:  \nOpening Ceremonies will take place on Sunday\, May 3 starting with the Parade of Athletes into the stadium at 9:00 AM. \n  \nConcessions:  \nBreakfast items\, coffee\, snacks\, drinks\, hotdogs\, burgers & more will be available for sale at the concession stands under the Home Bleachers. \n  \nVolunteer: \nTo inquire about volunteering for Spring Games scroll down for open roles or email Katelin Zandi at kzandi@soill.org \n  \nThank you to our wonderful Sponsors:  \nKnights of Columbus \nMarmion Academy \nSeptran Transportation \nAbbey Farms \nA-1 Landscaping & Maintenance \nBluco Cares \nCR Schmidt \n 
URL:https://jolietdc.org/event/special-olympics-region-c-spring-games-2026/
LOCATION:Marmion Academy\, 850 Butterfield Rd\, Aurora\, IL\, 60504\, United States
CATEGORIES:3rd Degree,4th Degree,Programming
ATTACH;FMTTYPE=image/jpeg:https://jolietdc.org/wp-content/uploads/2025/09/Special-Olympics-2025thankyou.jpg
ORGANIZER;CN="Special Olympics Illinois":MAILTO:kglimco@soill.org
END:VEVENT
BEGIN:VEVENT
DTSTART;TZID=America/Chicago:20260327T120000
DTEND;TZID=America/Chicago:20260327T160000
DTSTAMP:20260423T191311
CREATED:20260302T012147Z
LAST-MODIFIED:20260302T012147Z
UID:4430-1774612800-1774627200@jolietdc.org
SUMMARY:Knights of Columbus 382 Blood Drive
DESCRIPTION:Blood Drive
URL:https://jolietdc.org/event/knights-of-columbus-382-blood-drive/
LOCATION:Knights of Columbus 382\, 100 S 129th Infantry Dr\, Joliet IL\, 60436\, United States
CATEGORIES:3rd Degree
ATTACH;FMTTYPE=image/jpeg:https://jolietdc.org/wp-content/uploads/2026/02/Blood-drive-3-27-26.jpg
ORGANIZER;CN="council #382":MAILTO:kofc382@outlook.com
END:VEVENT
BEGIN:VEVENT
DTSTART;TZID=America/Chicago:20260319T080000
DTEND;TZID=America/Chicago:20260319T170000
DTSTAMP:20260423T191311
CREATED:20250825T212055Z
LAST-MODIFIED:20260113T194829Z
UID:3410-1773907200-1773939600@jolietdc.org
SUMMARY:2026 Illinois Pro-Life March
DESCRIPTION:Mark your calendar! The Illinois Pro-life March is tentatively scheduled for Thursday\, March 19th at the Illinois State Capitol in Springfield.\n\n\n\n\n\nWhen thousands of us gather to march for life\, we send a powerful message to our legislators: Illinois stands for life\, and we will never stop advocating for the protection of preborn children.\n\n\n\n\n\nWe’re honored to be joined by inspiring pro-life voices\, including Bishop Thomas Paprocki\, a steadfast pro-life champion from the Springfield Diocese.\n\n\n\n\n\nEvery year\, we march around the Capitol\, then meet with our legislators to speak up on the most pressing life issues facing our state. Your presence makes a difference—in the streets and in the halls of power.\n\n\n\n\n\nRegister TODAY for updates. We can’t wait to stand with you in Springfield! \n\nhttps://www.illinoisprolifemarch.com/
URL:https://jolietdc.org/event/2026-illinois-pro-life-march/
LOCATION:Illinois State Capitol Building\, 401 S. 2nd Street\, Springfield\, IL\, 62701\, United States
CATEGORIES:3rd Degree,Programming
ATTACH;FMTTYPE=image/jpeg:https://jolietdc.org/wp-content/uploads/2025/08/Pro-Life-Pro-Woman.jpg
END:VEVENT
BEGIN:VEVENT
DTSTART;TZID=America/Chicago:20260222T130000
DTEND;TZID=America/Chicago:20260222T170000
DTSTAMP:20260423T191311
CREATED:20260113T194829Z
LAST-MODIFIED:20260113T194829Z
UID:4223-1771765200-1771779600@jolietdc.org
SUMMARY:Council 4400 18th Annual Fur\, Fins and Feathers Sportsman's Dinner Fundraiser
DESCRIPTION:Game Dinner fundraiser.  Doors open at 1PM\, food served about 2PM.  Raffles and cash bar available.  $20 per person entry.  Dishes include Venison\, Chicken\, Fish and more.
URL:https://jolietdc.org/event/council-4400-18th-annual-fur-fins-and-feathers-sportsmans-dinner-fundraiser-3/
LOCATION:Knights of Columbus 4400\, 1813 East Cass Street\, Joliet\, IL\, 60432
CATEGORIES:Programming
ORGANIZER;CN="4400":MAILTO:kc4400@yahoo.com
END:VEVENT
BEGIN:VEVENT
DTSTART;TZID=America/Chicago:20260222T130000
DTEND;TZID=America/Chicago:20260222T170000
DTSTAMP:20260423T191311
CREATED:20260113T194829Z
LAST-MODIFIED:20260113T194829Z
UID:4227-1771765200-1771779600@jolietdc.org
SUMMARY:Council 4400 18th Annual Fur\, Fins and Feathers Sportsman's Dinner Fundraiser
DESCRIPTION:Game Dinner fundraiser.  Doors open at 1PM\, food served about 2PM.  Cost is $20 per person.  Cash Bar and Raffles available.  Food includes Venison\, Chicken\, Fish and more.
URL:https://jolietdc.org/event/council-4400-18th-annual-fur-fins-and-feathers-sportsmans-dinner-fundraiser-2/
LOCATION:Knights of Columbus 4400\, 1813 East Cass Street\, Joliet\, IL\, 60432
CATEGORIES:Charity
ORGANIZER;CN="4400":MAILTO:kc4400@yahoo.com
END:VEVENT
BEGIN:VEVENT
DTSTART;TZID=America/Chicago:20260222T130000
DTEND;TZID=America/Chicago:20260222T170000
DTSTAMP:20260423T191311
CREATED:20260113T194418Z
LAST-MODIFIED:20260113T194829Z
UID:4268-1771765200-1771779600@jolietdc.org
SUMMARY:Council 4400 18th Annual Fur\, Fins and Feathers Sportsman's Dinner Fundraiser
DESCRIPTION:Wild Game dinner fundraiser featuring Venison\, Rabbit\, Fish Chicken and other dishes.  $20 per person for food\, cash bar and raffles available.
URL:https://jolietdc.org/event/council-4400-18th-annual-fur-fins-and-feathers-sportsmans-dinner-fundraiser/
LOCATION:Knights of Columbus 4400\, 1813 East Cass Street\, Joliet\, IL\, 60432
CATEGORIES:Charity
ORGANIZER;CN="4400":MAILTO:kc4400@yahoo.com
END:VEVENT
BEGIN:VEVENT
DTSTART;TZID=America/Chicago:20260221T080000
DTEND;TZID=America/Chicago:20260221T170000
DTSTAMP:20260423T191311
CREATED:20250825T204455Z
LAST-MODIFIED:20260113T194829Z
UID:3400-1771660800-1771693200@jolietdc.org
SUMMARY:2026 State of the Art Band Competition
DESCRIPTION:Will replace with 2026 flyer once it is available
URL:https://jolietdc.org/event/2026-state-of-the-art-band-competition/
LOCATION:Marmion Academy\, 850 Butterfield Rd\, Aurora\, IL\, 60504\, United States
CATEGORIES:3rd Degree
ATTACH;FMTTYPE=image/jpeg:https://jolietdc.org/wp-content/uploads/2025/08/SOTA2025photo.jpg
END:VEVENT
BEGIN:VEVENT
DTSTART;TZID=America/Chicago:20260214T083000
DTEND;TZID=America/Chicago:20260214T213000
DTSTAMP:20260423T191311
CREATED:20260118T221304Z
LAST-MODIFIED:20260118T221304Z
UID:4337-1771057800-1771104600@jolietdc.org
SUMMARY:INTO THE BREACH  VIDEO SERIES  - Authentic Masculinity
DESCRIPTION:One of the most impactful episodes in the Into The Breach series is titled “Authentic Masculinity.” In this video\, men are invited to rediscover what it means to be authentically masculine according to God’s plan\, as opposed to the flawed definitions society often presents. \nWe’ll explore the key takeaways from the “Authentic Masculinity” video and how they can help men of faith embrace their God-given identity\, live with purpose\, and become the men they were always meant to be. \n  \nSaturday February 14th 2026 \n8:30 am to 9:30 am ( After 8:00 am Mass ) \nChurch’s Lower level \, Fitz Hall #2 \nJoin us for some  Bagels\, Doughnuts\, Coffee and Discussion \n  \n 
URL:https://jolietdc.org/event/into-the-breach-video-series-authentic-masculinity/
LOCATION:St Joseph Catholic Church Downers Grove\, IL\, 4801 Main St.\, Downers Grove\, IL\, 60515\, United States
CATEGORIES:Programming
ATTACH;FMTTYPE=image/jpeg:https://jolietdc.org/wp-content/uploads/2026/01/Authentic-Masculinity-ad.jpg
ORGANIZER;CN="Bishop James E Fitgerald #14649":MAILTO:varanda@comcast.net
END:VEVENT
BEGIN:VEVENT
DTSTART;TZID=America/Chicago:20260212T153000
DTEND;TZID=America/Chicago:20260212T193000
DTSTAMP:20260423T191311
CREATED:20260116T000747Z
LAST-MODIFIED:20260116T000747Z
UID:4331-1770910200-1770924600@jolietdc.org
SUMMARY:Knights of Columbus Blood Drive
DESCRIPTION:Save a life\, Give Blood.
URL:https://jolietdc.org/event/knights-of-columbus-blood-drive/
LOCATION:St. Joseph Downers Grove\, 4801 Main St\, Downers Grove\, IL\, 60515\, United States
CATEGORIES:Programming
ATTACH;FMTTYPE=image/jpeg:https://jolietdc.org/wp-content/uploads/2026/01/1000015277.jpg
ORGANIZER;CN="Bishop James E Fitgerald #14649":MAILTO:varanda@comcast.net
END:VEVENT
BEGIN:VEVENT
DTSTART;TZID=America/Chicago:20260129T180000
DTEND;TZID=America/Chicago:20260129T200000
DTSTAMP:20260423T191311
CREATED:20260106T190054Z
LAST-MODIFIED:20260113T194830Z
UID:4294-1769709600-1769716800@jolietdc.org
SUMMARY:District 31 Mid-Year Meeting
DESCRIPTION:This meeting is for the Grand Knights in District 31:\nSt. Anne – 16720\nSt. Francis Xavier – 14283\nGod’s Devine Mercy – 14463\nHoly Family – 15732\nLocation is:\nSt. Anne Catholic Church\n551 Boulder Hill Pass\, Oswego\, IL\nFor questions\, please contact DD Rick Llanes at 630-854-5569
URL:https://jolietdc.org/event/district-31-mid-year-meeting-2/
LOCATION:St. Anne\, Oswego\, 511 Boulder Hill Pass\, Oswego\, IL\, 60543\, United States
ATTACH;FMTTYPE=image/jpeg:https://jolietdc.org/wp-content/uploads/2026/01/DD-31-Rick-Llanes-e1767660551367.jpg
ORGANIZER;CN="DD Rick Llanes":MAILTO:Texasllanes8@gmail.com
END:VEVENT
BEGIN:VEVENT
DTSTART;TZID=America/Chicago:20260129T180000
DTEND;TZID=America/Chicago:20260129T200000
DTSTAMP:20260423T191311
CREATED:20260106T004235Z
LAST-MODIFIED:20260113T194830Z
UID:4304-1769709600-1769716800@jolietdc.org
SUMMARY:District 31 - Mid-Year Meeting
DESCRIPTION:The district 31 – Mid-Year Meeting is for councils: \n\nSt. Francis Xavier – 14283\nGod’s Devine Mercy – 14463\nHoly Family – 15732\nSt. Anne – 16720\n\nLocation: \nSt. Anne Catholic Church (Joachim Center)\n551 Boulder Hill Pass\nOswego\, IL 60543 \nContact: \nDD 31 Rick Llanes\n630-854-5569\nTexasllanes8@gmail.com \n 
URL:https://jolietdc.org/event/district-31-mid-year-meeting/
LOCATION:St. Anne\, Oswego\, 511 Boulder Hill Pass\, Oswego\, IL\, 60543\, United States
CATEGORIES:District Meeting
ATTACH;FMTTYPE=image/jpeg:https://jolietdc.org/wp-content/uploads/2026/01/DD-31-Rick-Llanes-e1767660551367.jpg
ORGANIZER;CN="DD Rick Llanes":MAILTO:Texasllanes8@gmail.com
END:VEVENT
BEGIN:VEVENT
DTSTART;TZID=America/Chicago:20260117T170000
DTEND;TZID=America/Chicago:20260118T120000
DTSTAMP:20260423T191311
CREATED:20260113T194758Z
LAST-MODIFIED:20260113T194830Z
UID:4325-1768669200-1768737600@jolietdc.org
SUMMARY:Corpus Christi Membership Drive
DESCRIPTION:Membership drive\, all Masses for the weekend.
URL:https://jolietdc.org/event/corpus-christi-membership-drive/
LOCATION:Corpus Christi Council 10958\, 1415 Lies Rd\, Carol Stream\, IL\, 60188\, United States
CATEGORIES:Membership
ATTACH;FMTTYPE=image/png:https://jolietdc.org/wp-content/uploads/2024/11/3rddegree200x200.png
END:VEVENT
BEGIN:VEVENT
DTSTART;TZID=America/Chicago:20260108T183000
DTEND;TZID=America/Chicago:20260108T200000
DTSTAMP:20260423T191311
CREATED:20251224T191025Z
LAST-MODIFIED:20260113T194830Z
UID:4256-1767897000-1767902400@jolietdc.org
SUMMARY:CUF Exemplification - St. Anne\, #16720
DESCRIPTION:CUF Exemplification\nThe St. Anne KofC is holding a live CUF Exemplification on Thursday January 8th at 6:30 PM.\n– $10 per member\n– Location: 551 Boulder Hill Pass\, Oswego\, IL 60543\n– Contact: Rick Llanes (Membership Director) – 630-854-5569
URL:https://jolietdc.org/event/cuf-exemplification-st-anne-16720/
CATEGORIES:CUF Exemplification,Membership
ATTACH;FMTTYPE=image/jpeg:https://jolietdc.org/wp-content/uploads/2025/09/Logo_Whte_BG-5.jpg
ORGANIZER;CN="Council #16720":MAILTO:texasllanes8@gmail.com
END:VEVENT
BEGIN:VEVENT
DTSTART;VALUE=DATE:20251206
DTEND;VALUE=DATE:20251208
DTSTAMP:20260423T191311
CREATED:20250825T210554Z
LAST-MODIFIED:20260113T194830Z
UID:3403-1764979200-1765151999@jolietdc.org
SUMMARY:District Deputy Winter Organizational Meeting
DESCRIPTION:Link to book rooms and meals will be included once it is available
URL:https://jolietdc.org/event/district-deputy-winter-organizational-meeting/
LOCATION:Peoria Marriott Pere Marquette\, 501 Main St\, Peoria\, IL \, USA\, IL\, 61602\, United States
CATEGORIES:3rd Degree,State Council
ATTACH;FMTTYPE=image/png:https://jolietdc.org/wp-content/uploads/2025/07/KC-Illinois-State-Pin-2025-blue-pink-OL-FINAL-Lloyd-e1756750472233.png
ORGANIZER;CN="Knights of Columbus Illinois State Council":MAILTO:denny@illinoisknights.org
END:VEVENT
BEGIN:VEVENT
DTSTART;TZID=America/Chicago:20251122T080000
DTEND;TZID=America/Chicago:20251122T160000
DTSTAMP:20260423T191311
CREATED:20250915T143004Z
LAST-MODIFIED:20260113T194830Z
UID:3861-1763798400-1763827200@jolietdc.org
SUMMARY:Great Lakes Catholic Mens Conference - NIU
DESCRIPTION:State Council will be a Sponsor \nKeynote Speakers: Father Rocky from Relevant Radio; Steve Ray; Tim Gray
URL:https://jolietdc.org/event/great-lakes-catholic-mens-conference-niu/
LOCATION:Northern Illinois University\, 340 Carroll Ave\, DeKalb\, IL\, 60115\, United States
CATEGORIES:3rd Degree,Membership,Micro Drives,Programming,State Council
ATTACH;FMTTYPE=image/png:https://jolietdc.org/wp-content/uploads/2025/09/Great-Lakes-Catholic-mens-conference.png
END:VEVENT
BEGIN:VEVENT
DTSTART;TZID=America/Chicago:20251109T080000
DTEND;TZID=America/Chicago:20251109T130000
DTSTAMP:20260423T191311
CREATED:20260113T194724Z
LAST-MODIFIED:20260113T194830Z
UID:3724-1762675200-1762693200@jolietdc.org
SUMMARY:St. Anne #16720 Membership Drive
DESCRIPTION:Church Drive after all Masses. All are welcome to attend.
URL:https://jolietdc.org/event/st-anne-16720-membership-drive-4/
LOCATION:St. Anne\, 511 Boulder Hill Pass\, Oswego\, IL\, 60543\, United States
CATEGORIES:Membership
ATTACH;FMTTYPE=image/jpeg:https://jolietdc.org/wp-content/uploads/2025/09/Logo_Whte_BG-1.jpg
ORGANIZER;CN="Council #16720":MAILTO:texasllanes8@gmail.com
END:VEVENT
BEGIN:VEVENT
DTSTART;TZID=America/Chicago:20251109T073000
DTEND;TZID=America/Chicago:20251109T133000
DTSTAMP:20260423T191311
CREATED:20260113T194725Z
LAST-MODIFIED:20260113T194830Z
UID:3784-1762673400-1762695000@jolietdc.org
SUMMARY:St. Anne #16720 Membership Drive
DESCRIPTION:Church Drive after all Masses/ All are welcome.
URL:https://jolietdc.org/event/st-anne-16720-membership-drive-7/
LOCATION:St. Anne\, 511 Boulder Hill Pass\, Oswego\, IL\, 60543\, United States
CATEGORIES:Membership
ATTACH;FMTTYPE=image/jpeg:https://jolietdc.org/wp-content/uploads/2025/09/Logo_Whte_BG-5.jpg
ORGANIZER;CN="Council #16720":MAILTO:texasllanes8@gmail.com
END:VEVENT
BEGIN:VEVENT
DTSTART;TZID=America/Chicago:20251108T170000
DTEND;TZID=America/Chicago:20251108T183000
DTSTAMP:20260423T191311
CREATED:20260113T194725Z
LAST-MODIFIED:20260113T194830Z
UID:3779-1762621200-1762626600@jolietdc.org
SUMMARY:St. Anne #16720 Membership Drive
DESCRIPTION:Church Drive after all Masses. All are welcome.
URL:https://jolietdc.org/event/st-anne-16720-membership-drive-6/
LOCATION:St. Anne\, 511 Boulder Hill Pass\, Oswego\, IL\, 60543\, United States
CATEGORIES:Membership
ATTACH;FMTTYPE=image/jpeg:https://jolietdc.org/wp-content/uploads/2025/09/Logo_Whte_BG-4.jpg
ORGANIZER;CN="Council #16720":MAILTO:texasllanes8@gmail.com
END:VEVENT
BEGIN:VEVENT
DTSTART;TZID=America/Chicago:20251108T170000
DTEND;TZID=America/Chicago:20251108T183000
DTSTAMP:20260423T191311
CREATED:20260113T194724Z
LAST-MODIFIED:20260113T194830Z
UID:3719-1762621200-1762626600@jolietdc.org
SUMMARY:St. Anne #16720 Membership Drive
DESCRIPTION:Church Drive after all Masses. All are welcome to attend.
URL:https://jolietdc.org/event/st-anne-16720-membership-drive-3/
LOCATION:St. Anne\, 511 Boulder Hill Pass\, Oswego\, IL\, 60543\, United States
CATEGORIES:Membership
ATTACH;FMTTYPE=image/jpeg:https://jolietdc.org/wp-content/uploads/2025/09/Logo_Whte_BG.jpg
ORGANIZER;CN="Council #16720":MAILTO:texasllanes8@gmail.com
END:VEVENT
BEGIN:VEVENT
DTSTART;VALUE=DATE:20251108
DTEND;VALUE=DATE:20251110
DTSTAMP:20260423T191311
CREATED:20250929T012346Z
LAST-MODIFIED:20260113T194830Z
UID:3928-1762560000-1762732799@jolietdc.org
SUMMARY:Recruitment Drive Weekend - St. Anne Council 16720
DESCRIPTION:St. Anne (Oswego) Recruitment Drive Weekend\n– Saturday 11/8: After 5:00 PM Mass\n– Sunday 11/9: After all Masses (7:30\, 9:15\, and 11:00 AM)
URL:https://jolietdc.org/event/recruitment-drive-weekend-st-anne-council-16720/
LOCATION:St. Anne\, Oswego\, 511 Boulder Hill Pass\, Oswego\, IL\, 60543\, United States
CATEGORIES:Delta Church Drives,Membership
END:VEVENT
BEGIN:VEVENT
DTSTART;TZID=America/Chicago:20251102T083000
DTEND;TZID=America/Chicago:20251102T123000
DTSTAMP:20260423T191311
CREATED:20250914T222445Z
LAST-MODIFIED:20260113T194830Z
UID:3844-1762072200-1762086600@jolietdc.org
SUMMARY:Blood Drive - Council 14283 Joliet
DESCRIPTION:
URL:https://jolietdc.org/event/blood-drive-council-14283-joliet/
LOCATION:St. Francis Xavier – Plainfield ( Joliet)\, 2500 S. Arbeiter Rd\, Joliet\, IL\, 60586\, United States
CATEGORIES:Programming
ATTACH;FMTTYPE=image/jpeg:https://jolietdc.org/wp-content/uploads/2025/09/download.jpg
END:VEVENT
BEGIN:VEVENT
DTSTART;TZID=America/Chicago:20251029T190000
DTEND;TZID=America/Chicago:20251029T200000
DTSTAMP:20260423T191311
CREATED:20251023T171010Z
LAST-MODIFIED:20260113T194830Z
UID:4058-1761764400-1761768000@jolietdc.org
SUMMARY:Haunted by God: The Life of Dorothy Day
DESCRIPTION:Mark your calendar for Wed\, Oct 29 at 7:00pm in St. Joan of Arc Church for an evening promises to be entertaining and inspiring! HAUNTED BY GOD: THE LIFE OF DOROTHY DAY is a compelling one-woman show about the co-founder of the Catholic Worker movement. After her death in 1980\, the New York Times eulogized Dorothy as a “nonviolent social radical of luminous personality.” Don’t miss a second of this exciting new work! \nIt’s free admission but free will offerings will be accepted to support the Dorothy Day Guild.  \nProduced in association with Call to Action. Sponsored by the St Joan of Arc Knights of Columbus Council 15168.
URL:https://jolietdc.org/event/haunted-by-god-the-life-of-dorothy-day/
LOCATION:St. Joan of Arc – Lisle
CATEGORIES:Programming
ATTACH;FMTTYPE=image/png:https://jolietdc.org/wp-content/uploads/2025/10/Haunted-by-God.png
END:VEVENT
BEGIN:VEVENT
DTSTART;TZID=America/Chicago:20251026T103000
DTEND;TZID=America/Chicago:20251026T113000
DTSTAMP:20260423T191311
CREATED:20250901T195005Z
LAST-MODIFIED:20250901T195005Z
UID:3640-1761474600-1761478200@jolietdc.org
SUMMARY:St. Liborius Council 14562 Membership Drive DD32
DESCRIPTION:
URL:https://jolietdc.org/event/st-liborius-council-14562-membership-drive-dd32/
LOCATION:St. Liborius Steger\, 71 W. 35th St.\, Steger\, IL\, 60475\, United States
CATEGORIES:3rd Degree,Delta Church Drives,Membership
ATTACH;FMTTYPE=image/jpeg:https://jolietdc.org/wp-content/uploads/2025/08/2025-2026-Membership-QR-Code-3.jpg
END:VEVENT
BEGIN:VEVENT
DTSTART;TZID=America/Chicago:20251025T163000
DTEND;TZID=America/Chicago:20251025T173000
DTSTAMP:20260423T191311
CREATED:20250901T195426Z
LAST-MODIFIED:20250901T214542Z
UID:3643-1761409800-1761413400@jolietdc.org
SUMMARY:St. Liborius Council 14562 Membership Drive DD32
DESCRIPTION:
URL:https://jolietdc.org/event/st-liborius-council-14562-membership-drive-dd32-2/
LOCATION:St. Liborius Steger\, 71 W. 35th St.\, Steger\, IL\, 60475\, United States
CATEGORIES:3rd Degree,Delta Church Drives,Membership
ATTACH;FMTTYPE=image/jpeg:https://jolietdc.org/wp-content/uploads/2025/08/2025-2026-Membership-QR-Code-3.jpg
END:VEVENT
BEGIN:VEVENT
DTSTART;TZID=America/Chicago:20251019T110000
DTEND;TZID=America/Chicago:20251019T120000
DTSTAMP:20260423T191311
CREATED:20250901T155445Z
LAST-MODIFIED:20250901T160614Z
UID:3599-1760871600-1760875200@jolietdc.org
SUMMARY:St. Paul the Apostle Council # 11232 Membership Drive DD32
DESCRIPTION:St Paul the Apostle Council # 11232 will conduct a Membership Drive / Benefits event immediately following the 11AM Mass on Sunday October 19\, 2025 at St. Paul the Apostle Catholic Church 511 N. Conrad Av.  Peotone\, IL  60468.  All are invited
URL:https://jolietdc.org/event/st-paul-the-apostle-council-11232-membership-drive-dd32/
LOCATION:St. Paul the Apostle Church\, 511 N. Conrad Av.\, Peotone\, IL\, 60468\, United States
CATEGORIES:3rd Degree,Membership
ATTACH;FMTTYPE=image/jpeg:https://jolietdc.org/wp-content/uploads/2025/08/2025-2026-Membership-QR-Code-1.jpg
END:VEVENT
BEGIN:VEVENT
DTSTART;TZID=America/Chicago:20251019T080000
DTEND;TZID=America/Chicago:20251019T133000
DTSTAMP:20260423T191311
CREATED:20250929T011901Z
LAST-MODIFIED:20250929T012920Z
UID:3926-1760860800-1760880600@jolietdc.org
SUMMARY:St. Anne (Oswego) Pro-Life Breakfast
DESCRIPTION:St. Anne (Oswego) Pro Life Breakfast\n– Sunday\, October 19\n– After all Masses\n– Free will donation\n– Contact: Tom Grunhard (630) 779-7667 or tomcubs72@aol.com
URL:https://jolietdc.org/event/st-anne-oswego-pro-life-breakfast/
LOCATION:St. Anne\, Oswego\, 511 Boulder Hill Pass\, Oswego\, IL\, 60543\, United States
CATEGORIES:Programming
ATTACH;FMTTYPE=image/jpeg:https://jolietdc.org/wp-content/uploads/2025/09/Prolife-Breakfast-2025-WSBanner_v1.0.jpg
END:VEVENT
BEGIN:VEVENT
DTSTART;TZID=America/Chicago:20251018T170000
DTEND;TZID=America/Chicago:20251018T210000
DTSTAMP:20260423T191311
CREATED:20250825T204037Z
LAST-MODIFIED:20250904T003118Z
UID:3397-1760806800-1760821200@jolietdc.org
SUMMARY:2025 Bishop's Burse
DESCRIPTION:We will honor our Bishop Ronald Hicks and his ministries locally and abroad
URL:https://jolietdc.org/event/2025-bishops-burse/
LOCATION:Our Lady of Mercy – Aurora\, 701 S. Eola Road\, Aurora\, IL\, 60504\, United States
CATEGORIES:3rd Degree,4th Degree,Joliet Chapter
ATTACH;FMTTYPE=image/png:https://jolietdc.org/wp-content/uploads/2025/08/Bishop-Hicks-2.png
END:VEVENT
BEGIN:VEVENT
DTSTART;TZID=America/Chicago:20251018T160000
DTEND;TZID=America/Chicago:20251018T170000
DTSTAMP:20260423T191311
CREATED:20250809T210259Z
LAST-MODIFIED:20250904T003517Z
UID:3230-1760803200-1760806800@jolietdc.org
SUMMARY:St. Paul the Apostle Council # 11232 Membership Drive/Benefit Event DD32
DESCRIPTION:St Paul the Apostle Council # 11232 will conduct a Membership Drive / Benefits event immediately following the 4:00 PM Mass on Saturday October 18\, 2025 at St. Paul the Apostle Catholic Church 511 N. Conrad Av.  Peotone\, IL  60468.  All are invited
URL:https://jolietdc.org/event/st-paul-the-apostle-council-11232-membership-drive-benefits-event/
LOCATION:St. Paul the Apostle Church\, 511 N. Conrad Av.\, Peotone\, IL\, 60468\, United States
CATEGORIES:3rd Degree,Membership
ATTACH;FMTTYPE=image/jpeg:https://jolietdc.org/wp-content/uploads/2025/08/2025-2026-Membership-QR-Code-2.jpg
END:VEVENT
BEGIN:VEVENT
DTSTART;TZID=America/Chicago:20251017T190000
DTEND;TZID=America/Chicago:20251017T203000
DTSTAMP:20260423T191311
CREATED:20250929T011429Z
LAST-MODIFIED:20250929T050506Z
UID:3920-1760727600-1760733000@jolietdc.org
SUMMARY:Rite of Lector Mass for the Diaconate Formation Class of 2027 Honor Guard
DESCRIPTION:Honor Guard\n\nRite of Lector Mass for the Diaconate Formation Class of 2027.\nFriday\, October 17\, 2025\, at 7 pm.\nSt. Mary Mokena 19515 115th Ave Mokena\nCelebrate Bishop Dennis Spies
URL:https://jolietdc.org/event/rite-of-lector-mass-for-the-diaconate-formation-class-of-2027-honor-guard/
LOCATION:St. Mary Mokena Church\, 19515 115th Ave\, Mokena\, 60448\, United States
ATTACH;FMTTYPE=image/png:https://jolietdc.org/wp-content/uploads/2024/11/3rddegree200x200.png
ORGANIZER;CN="St Mary Mokena Council 6693":MAILTO:knight@mokenaknights.org
END:VEVENT
END:VCALENDAR