BEGIN:VCALENDAR
VERSION:2.0
PRODID:-//Joliet Fraternal Leaders - ECPv6.15.20//NONSGML v1.0//EN
CALSCALE:GREGORIAN
METHOD:PUBLISH
X-WR-CALNAME:Joliet Fraternal Leaders
X-ORIGINAL-URL:https://jolietdc.org
X-WR-CALDESC:Events for Joliet Fraternal Leaders
REFRESH-INTERVAL;VALUE=DURATION:PT1H
X-Robots-Tag:noindex
X-PUBLISHED-TTL:PT1H
BEGIN:VTIMEZONE
TZID:America/Chicago
BEGIN:DAYLIGHT
TZOFFSETFROM:-0600
TZOFFSETTO:-0500
TZNAME:CDT
DTSTART:20230312T080000
END:DAYLIGHT
BEGIN:STANDARD
TZOFFSETFROM:-0500
TZOFFSETTO:-0600
TZNAME:CST
DTSTART:20231105T070000
END:STANDARD
BEGIN:DAYLIGHT
TZOFFSETFROM:-0600
TZOFFSETTO:-0500
TZNAME:CDT
DTSTART:20240310T080000
END:DAYLIGHT
BEGIN:STANDARD
TZOFFSETFROM:-0500
TZOFFSETTO:-0600
TZNAME:CST
DTSTART:20241103T070000
END:STANDARD
BEGIN:DAYLIGHT
TZOFFSETFROM:-0600
TZOFFSETTO:-0500
TZNAME:CDT
DTSTART:20250309T080000
END:DAYLIGHT
BEGIN:STANDARD
TZOFFSETFROM:-0500
TZOFFSETTO:-0600
TZNAME:CST
DTSTART:20251102T070000
END:STANDARD
END:VTIMEZONE
BEGIN:VEVENT
DTSTART;TZID=America/Chicago:20241216T190000
DTEND;TZID=America/Chicago:20241216T200000
DTSTAMP:20260425T071120
CREATED:20241216T020505Z
LAST-MODIFIED:20241216T021740Z
UID:1995-1734375600-1734379200@jolietdc.org
SUMMARY:Simbang Gabi - Visitation Parish
DESCRIPTION:Live  Stream link www.visitationparish.org
URL:https://jolietdc.org/event/simbang-gabi-visitation-parish/
LOCATION:Visitation\, 779 S. York Street\, Elmhurst\, IL\, 60126\, United States
CATEGORIES:Programming
ATTACH;FMTTYPE=image/png:https://jolietdc.org/wp-content/uploads/2024/11/PG-Faith.png
END:VEVENT
BEGIN:VEVENT
DTSTART;TZID=America/Chicago:20241214T083000
DTEND;TZID=America/Chicago:20241214T093000
DTSTAMP:20260425T071120
CREATED:20241201T165551Z
LAST-MODIFIED:20241201T165551Z
UID:1864-1734165000-1734168600@jolietdc.org
SUMMARY:11092 COR December Meeting
DESCRIPTION:The men of Knights of Columbus Council No. 11092 are excited to share that Cor\, a\nnew formation and fraternal opportunity for the men of St. Francis of Assisi’s parish\, is\nreturning. Cor exists to form and strengthen Catholic men in faith and virtue as\nmissionary disciples by drawing them into a deeper relationship with Jesus Christ\nthrough prayer\, formation\, and fraternity. \nCor will be held at 8:30 am on the second Saturday of every month in St. Francis of Assisi’s Classroom 6.\nOur first session will be on Saturday September 21st\, and then we will revert to the second Saturday of\nevery month. Come join your brother parishioners for coffee and donuts\, prayer and fraternity!\nIf you have additional questions\, please reach out to Jim McCarthy at: jam3ohio@live.com.
URL:https://jolietdc.org/event/11092-cor-december-meeting/
LOCATION:St. Francis of Assisi Bolingbrook\, 1501 W Boughton Rd\, Bolingbrook\, IL\, 60490\, United States
CATEGORIES:Programming
ATTACH;FMTTYPE=image/png:https://jolietdc.org/wp-content/uploads/2024/12/COR.png
END:VEVENT
BEGIN:VEVENT
DTSTART;TZID=America/Chicago:20241207T080000
DTEND;TZID=America/Chicago:20241208T170000
DTSTAMP:20260425T071120
CREATED:20241121T181508Z
LAST-MODIFIED:20241130T031737Z
UID:1807-1733558400-1733677200@jolietdc.org
SUMMARY:Mid-Year Organization Meeting
DESCRIPTION:Registration is now open for the Mid-Year Organizational Meeting.  Please click below to register and order meal tickets. \nAll men’s meal packages include: \n\n\nBack East Deli Buffet Lunch on Saturday \n\n\nBanquet Meal on Saturday Evening \n\n\nContinental Breakfast on Sunday Morning \n\n\nAdditional Banquet Tickets are available for Spouses/Guests and a registration for the Ladies Luncheon and Craft Project is also available. \nAfter registration is complete an email will be sent confirming the purchase.  If the email is not received\, please contact the State Office to confirm registration. \nClick Here To Register and Order Tickets \nClick Here To See the Schedule
URL:https://jolietdc.org/event/mid-year-organization-meeting/
LOCATION:Hilton Oak Brook Hills Resort & Conference Center\, 3500 Midwest Road\, Oak Brook\, IL\, 60523\, United States
CATEGORIES:State Council
ATTACH;FMTTYPE=image/png:https://jolietdc.org/wp-content/uploads/2024/11/mid-year-meeting-2024-1-e1732936645765.png
END:VEVENT
END:VCALENDAR