BEGIN:VCALENDAR
VERSION:2.0
PRODID:-//Joliet Fraternal Leaders - ECPv6.15.20//NONSGML v1.0//EN
CALSCALE:GREGORIAN
METHOD:PUBLISH
X-ORIGINAL-URL:https://jolietdc.org
X-WR-CALDESC:Events for Joliet Fraternal Leaders
REFRESH-INTERVAL;VALUE=DURATION:PT1H
X-Robots-Tag:noindex
X-PUBLISHED-TTL:PT1H
BEGIN:VTIMEZONE
TZID:America/Chicago
BEGIN:DAYLIGHT
TZOFFSETFROM:-0600
TZOFFSETTO:-0500
TZNAME:CDT
DTSTART:20240310T080000
END:DAYLIGHT
BEGIN:STANDARD
TZOFFSETFROM:-0500
TZOFFSETTO:-0600
TZNAME:CST
DTSTART:20241103T070000
END:STANDARD
BEGIN:DAYLIGHT
TZOFFSETFROM:-0600
TZOFFSETTO:-0500
TZNAME:CDT
DTSTART:20250309T080000
END:DAYLIGHT
BEGIN:STANDARD
TZOFFSETFROM:-0500
TZOFFSETTO:-0600
TZNAME:CST
DTSTART:20251102T070000
END:STANDARD
BEGIN:DAYLIGHT
TZOFFSETFROM:-0600
TZOFFSETTO:-0500
TZNAME:CDT
DTSTART:20260308T080000
END:DAYLIGHT
BEGIN:STANDARD
TZOFFSETFROM:-0500
TZOFFSETTO:-0600
TZNAME:CST
DTSTART:20261101T070000
END:STANDARD
END:VTIMEZONE
BEGIN:VEVENT
DTSTART;TZID=America/Chicago:20250309T073000
DTEND;TZID=America/Chicago:20250309T123000
DTSTAMP:20260424T201922
CREATED:20250214T223843Z
LAST-MODIFIED:20250214T223843Z
UID:2398-1741505400-1741523400@jolietdc.org
SUMMARY:Pancake Breakfast
DESCRIPTION:All you can eat pancakes\, sausage\, & Beverage! $8.00 PER PERSON\, $6.00 (5-12 years) $20.00 Family
URL:https://jolietdc.org/event/pancake-breakfast/
LOCATION:St. Joseph Catholic Church\, 4801 Main St.\, Downers Grove\, IL\, 60515\, United States
CATEGORIES:Programming
ATTACH;FMTTYPE=image/jpeg:https://jolietdc.org/wp-content/uploads/2025/02/Pancake-church-ad-325.jpg
ORGANIZER;CN="Bishop James E Fitzgerald #14649":MAILTO:varanda@comcast.net
END:VEVENT
END:VCALENDAR