BEGIN:VCALENDAR
VERSION:2.0
PRODID:-//Joliet Fraternal Leaders - ECPv6.15.20//NONSGML v1.0//EN
CALSCALE:GREGORIAN
METHOD:PUBLISH
X-ORIGINAL-URL:https://jolietdc.org
X-WR-CALDESC:Events for Joliet Fraternal Leaders
REFRESH-INTERVAL;VALUE=DURATION:PT1H
X-Robots-Tag:noindex
X-PUBLISHED-TTL:PT1H
BEGIN:VTIMEZONE
TZID:America/Chicago
BEGIN:DAYLIGHT
TZOFFSETFROM:-0600
TZOFFSETTO:-0500
TZNAME:CDT
DTSTART:20240310T080000
END:DAYLIGHT
BEGIN:STANDARD
TZOFFSETFROM:-0500
TZOFFSETTO:-0600
TZNAME:CST
DTSTART:20241103T070000
END:STANDARD
BEGIN:DAYLIGHT
TZOFFSETFROM:-0600
TZOFFSETTO:-0500
TZNAME:CDT
DTSTART:20250309T080000
END:DAYLIGHT
BEGIN:STANDARD
TZOFFSETFROM:-0500
TZOFFSETTO:-0600
TZNAME:CST
DTSTART:20251102T070000
END:STANDARD
BEGIN:DAYLIGHT
TZOFFSETFROM:-0600
TZOFFSETTO:-0500
TZNAME:CDT
DTSTART:20260308T080000
END:DAYLIGHT
BEGIN:STANDARD
TZOFFSETFROM:-0500
TZOFFSETTO:-0600
TZNAME:CST
DTSTART:20261101T070000
END:STANDARD
END:VTIMEZONE
BEGIN:VEVENT
DTSTART;VALUE=DATE:20250920
DTEND;VALUE=DATE:20250921
DTSTAMP:20260424T054310
CREATED:20250907T193639Z
LAST-MODIFIED:20250907T193639Z
UID:3758-1758326400-1758412799@jolietdc.org
SUMMARY:Oktoberfest Notre Dame Parish Council 15296
DESCRIPTION:
URL:https://jolietdc.org/event/oktoberfest-notre-dame-parish-council-15296/
LOCATION:Notre Dame Clarendon Hills\, 64 Norfolk\, Clarendon Hills\, IL\, 60514\, United States
CATEGORIES:3rd Degree,Programming
ATTACH;FMTTYPE=image/png:https://jolietdc.org/wp-content/uploads/2025/09/download.png
END:VEVENT
BEGIN:VEVENT
DTSTART;TZID=America/Chicago:20250920T170000
DTEND;TZID=America/Chicago:20250920T220000
DTSTAMP:20260424T054310
CREATED:20250918T114931Z
LAST-MODIFIED:20250918T115104Z
UID:3875-1758387600-1758405600@jolietdc.org
SUMMARY:Halfway to St. Patrick's - Council 10944 Romeoville
DESCRIPTION:Come join the St Andrew’s Knights of columbus for a celebration including: dinner\, Live Entertainment\, open Bar\, and Raffles!  Cost $50
URL:https://jolietdc.org/event/halfway-to-st-patricks-council-10944-romeoville/
LOCATION:Fat Ricky’s Romeoville\, 646 N. Independence Dr.\, Romeoville\, IL\, 60446\, United States
CATEGORIES:3rd Degree,Membership,Micro Drives,Programming
ATTACH;FMTTYPE=image/jpeg:https://jolietdc.org/wp-content/uploads/2025/09/IMG_3759.jpg
END:VEVENT
END:VCALENDAR