BEGIN:VCALENDAR
VERSION:2.0
PRODID:-//Joliet Fraternal Leaders - ECPv6.15.20//NONSGML v1.0//EN
CALSCALE:GREGORIAN
METHOD:PUBLISH
X-ORIGINAL-URL:https://jolietdc.org
X-WR-CALDESC:Events for Joliet Fraternal Leaders
REFRESH-INTERVAL;VALUE=DURATION:PT1H
X-Robots-Tag:noindex
X-PUBLISHED-TTL:PT1H
BEGIN:VTIMEZONE
TZID:America/Chicago
BEGIN:DAYLIGHT
TZOFFSETFROM:-0600
TZOFFSETTO:-0500
TZNAME:CDT
DTSTART:20240310T080000
END:DAYLIGHT
BEGIN:STANDARD
TZOFFSETFROM:-0500
TZOFFSETTO:-0600
TZNAME:CST
DTSTART:20241103T070000
END:STANDARD
BEGIN:DAYLIGHT
TZOFFSETFROM:-0600
TZOFFSETTO:-0500
TZNAME:CDT
DTSTART:20250309T080000
END:DAYLIGHT
BEGIN:STANDARD
TZOFFSETFROM:-0500
TZOFFSETTO:-0600
TZNAME:CST
DTSTART:20251102T070000
END:STANDARD
BEGIN:DAYLIGHT
TZOFFSETFROM:-0600
TZOFFSETTO:-0500
TZNAME:CDT
DTSTART:20260308T080000
END:DAYLIGHT
BEGIN:STANDARD
TZOFFSETFROM:-0500
TZOFFSETTO:-0600
TZNAME:CST
DTSTART:20261101T070000
END:STANDARD
END:VTIMEZONE
BEGIN:VEVENT
DTSTART;TZID=America/Chicago:20250827T080000
DTEND;TZID=America/Chicago:20250827T103000
DTSTAMP:20260424T082040
CREATED:20250823T173356Z
LAST-MODIFIED:20250823T190340Z
UID:3330-1756281600-1756290600@jolietdc.org
SUMMARY:Silver Rose: St. Raphael (English)
DESCRIPTION:District 33: Assembly 3044  \nContact Nick DiGiovanni 630-777-8158
URL:https://jolietdc.org/event/silver-rose-st-raphael-english/
LOCATION:St. Raphael Naperville\, 1215 S. Modaff Rd.\, Naperville\, IL\, 60540\, United States
CATEGORIES:3rd Degree,Programming
ATTACH;FMTTYPE=image/jpeg:https://jolietdc.org/wp-content/uploads/2025/08/silver-rose-devotion.jpg
END:VEVENT
BEGIN:VEVENT
DTSTART;TZID=America/Chicago:20250827T183000
DTEND;TZID=America/Chicago:20250827T193000
DTSTAMP:20260424T082040
CREATED:20250823T175140Z
LAST-MODIFIED:20250823T183730Z
UID:3336-1756319400-1756323000@jolietdc.org
SUMMARY:Silver Rose: St. Francis Xavier (English)
DESCRIPTION:District 31: Assembly 3232 \nChuck Allen 815-953-7145 \n 
URL:https://jolietdc.org/event/silver-rose-st-francis-xavier-english/
LOCATION:IL
CATEGORIES:3rd Degree,Programming
ATTACH;FMTTYPE=image/jpeg:https://jolietdc.org/wp-content/uploads/2025/08/silver-rose-devotion.jpg
END:VEVENT
BEGIN:VEVENT
DTSTART;TZID=America/Chicago:20250827T190000
DTEND;TZID=America/Chicago:20250827T200000
DTSTAMP:20260424T082040
CREATED:20250823T174835Z
LAST-MODIFIED:20250823T174835Z
UID:3332-1756321200-1756324800@jolietdc.org
SUMMARY:Silver Rose: St. Anthony (English)
DESCRIPTION:District 35: Assembly 204 Southern Route State Rose \n  \nContact  708-927-3591
URL:https://jolietdc.org/event/silver-rose-st-anthony-english/
LOCATION:St. Anthony Frankfort\, 7659 W. Sauk Trail\, Frankfort\, IL\, 60423\, United States
CATEGORIES:3rd Degree,Programming
ATTACH;FMTTYPE=image/jpeg:https://jolietdc.org/wp-content/uploads/2025/08/silver-rose-devotion.jpg
END:VEVENT
END:VCALENDAR